BEGIN:VCALENDAR
VERSION:2.0
PRODID:-//ChamberMaster//Event Calendar 2.0//EN
METHOD:PUBLISH
X-PUBLISHED-TTL:P3D
REFRESH-INTERVAL:P3D
CALSCALE:GREGORIAN
BEGIN:VEVENT
DTSTART:20260520T230000Z
DTEND:20260521T010000Z
X-MICROSOFT-CDO-ALLDAYEVENT:FALSE
SUMMARY:May Day Happy Hour with Springfield Place
DESCRIPTION:Please join us as we celebrate May Day alongside our\n\nPetaluma Chamber of Commerce on our Garden Patio\,\n\nwhere bubbles and bites await everyone. Immerse yourself\n\nin our blossoming community and enjoy a relaxing\n\nafternoon filled with great company\, light refreshments\,\n\nand warm conversation in a beautiful outdoor setting.
X-ALT-DESC;FMTTYPE=text/html:Please join us as we celebrate May Day alongside our<br />\nPetaluma Chamber of Commerce on our Garden Patio\,<br />\nwhere bubbles and bites await everyone. Immerse yourself<br />\nin our blossoming community and enjoy a relaxing<br />\nafternoon filled with great company\, light refreshments\,<br />\nand warm conversation in a beautiful outdoor setting.
LOCATION:Springfield Place 101 Ely Blvd South
UID:e.1308.18050
SEQUENCE:3
DTSTAMP:20260422T025917Z
URL:https://business.petalumachamber.biz/events/details/may-day-happy-hour-with-springfield-place-18050
END:VEVENT

END:VCALENDAR
