BEGIN:VCALENDAR
VERSION:2.0
PRODID:-//ChamberMaster//Event Calendar 2.0//EN
METHOD:PUBLISH
X-PUBLISHED-TTL:P3D
REFRESH-INTERVAL:P3D
CALSCALE:GREGORIAN
BEGIN:VEVENT
DTSTART:20191024T200000Z
DTEND:20191024T220000Z
X-MICROSOFT-CDO-ALLDAYEVENT:FALSE
SUMMARY:Medicare Choices and Changes
DESCRIPTION:Join Village Network Petaluma for this excellent opportunity to get your Medicare questions answered by a state-certified counselor trained to provide free\, up-to-date and unbiased information. Offered at the beginning of Medicare's annual enrollment period\, this free public seminar helps Medicare beneficiaries make informed choices about their options as it details changes to original Medicare\, Advantage Plans\, and Part D Plans that take effect in January. Space is limited. To reserve a seat\, register to Village Network of Petaluma at info@VillageNetworkofPetaluma.org or 707-776-6055.   Presented by Village Network Petaluma in partnership with Petaluma Health Center and Senior Advocacy Services' HICAP. BIO for Seminar presenter Frank Nelson\, HICAP Regional Program Manager Frank Nelson is the Regional Program Manager of the North Bay Medicare Health Insurance Counseling and Advocacy Program (HICAP)\, serving 6 counties. He is a state-certified HICAP counselor\, provides advocacy at the state level and represents HICAP regionally as a speaker and Board member. Frank works out of the Petaluma office of Senior Advocacy Services.
X-ALT-DESC;FMTTYPE=text/html:Join Village Network Petaluma for this excellent opportunity to get your Medicare questions answered by a state-certified counselor trained to provide free\, up-to-date and unbiased information. Offered at the beginning of Medicare&rsquo\;s annual enrollment period\, this free public seminar helps Medicare beneficiaries make informed choices about their options as it details changes to original Medicare\, Advantage Plans\, and Part D Plans that take effect in January. Space is limited. To reserve a seat\, register to Village Network of Petaluma at info@VillageNetworkofPetaluma.org or 707-776-6055. &bull\; Presented by Village Network Petaluma in partnership with Petaluma Health Center and Senior Advocacy Services&rsquo\; HICAP. BIO for Seminar presenter Frank Nelson\, HICAP Regional Program Manager Frank Nelson is the Regional Program Manager of the North Bay Medicare Health Insurance Counseling and Advocacy Program (HICAP)\, serving 6 counties. He is a state-certified HICAP counselor\, provides advocacy at the state level and represents HICAP regionally as a speaker and Board member. Frank works out of the Petaluma office of Senior Advocacy Services.
LOCATION:Petaluma Health Center 1179 North McDowell Blvd. Petaluma
UID:e.1308.13954
SEQUENCE:3
DTSTAMP:20260420T075133Z
URL:https://business.petalumachamber.biz/events/details/medicare-choices-and-changes-13954
END:VEVENT

END:VCALENDAR
