BEGIN:VCALENDAR
VERSION:2.0
PRODID:-//ChamberMaster//Event Calendar 2.0//EN
METHOD:PUBLISH
X-PUBLISHED-TTL:P3D
REFRESH-INTERVAL:P3D
CALSCALE:GREGORIAN
BEGIN:VEVENT
DTSTART:20200201T230000Z
DTEND:20200202T010000Z
X-MICROSOFT-CDO-ALLDAYEVENT:FALSE
SUMMARY:Meet Your Valentine Singles Mixer
DESCRIPTION:Meet your Valentine at a fun venue! Adults of all ages welcome. Dress to impress. Saturday\, February 1\, 2020\, 3-5pm. Only $10 at the door includes all this:  Fun Mixer Game\, that makes it EASY to meet new friends  Appetizers\, served at 3pm\, as long as they last  Happy Hour pricing for drinks throughout the party  Prizes LOCATION: 256 North\, 256 Petaluma Blvd North\, Downtown Petaluma CA. Free parking! MORE SINGLES PARTIES at www.thepartyhotline.com.
X-ALT-DESC;FMTTYPE=text/html:Meet your Valentine at a fun venue! Adults of all ages welcome. Dress to impress. Saturday\, February 1\, 2020\, 3-5pm. Only $10 at the door includes all this: &bull\;Fun Mixer Game\, that makes it EASY to meet new friends &bull\;Appetizers\, served at 3pm\, as long as they last &bull\;Happy Hour pricing for drinks throughout the party &bull\;Prizes LOCATION: 256 North\, 256 Petaluma Blvd North\, Downtown Petaluma CA. Free parking! MORE SINGLES PARTIES at www.thepartyhotline.com.
LOCATION:256 North\, 256 Petaluma Blvd North\, Petalua CA 94952
UID:e.1308.13990
SEQUENCE:3
DTSTAMP:20260420T144051Z
URL:https://business.petalumachamber.biz/events/details/meet-your-valentine-singles-mixer-13990
END:VEVENT

END:VCALENDAR
