BEGIN:VCALENDAR
VERSION:2.0
PRODID:-//ChamberMaster//Event Calendar 2.0//EN
METHOD:PUBLISH
X-PUBLISHED-TTL:P3D
REFRESH-INTERVAL:P3D
CALSCALE:GREGORIAN
BEGIN:VEVENT
DTSTART:20200211T160000Z
DTEND:20200211T170000Z
X-MICROSOFT-CDO-ALLDAYEVENT:FALSE
SUMMARY:Member Orientation and Refresher
DESCRIPTION:The Petaluma Area Chamber of Commerce invites you to attend our \n\nMember Orientation and Refresher!\n\n\n\nMeet fellow members at our Chamber office while enjoying breakfast snacks and coffee. Make sure you are up to date on all of the benefits that your membership has to offer!
X-ALT-DESC;FMTTYPE=text/html:The Petaluma Area Chamber of Commerce invites you to attend our&nbsp\;<br />\n<span style="font-size:14px\;">Member Orientation and Refresher!<br />\n<br />\n<span style="font-size:12px\;">Meet fellow members at our Chamber office while enjoying breakfast snacks and coffee. Make sure you are up to date on all of the benefits that your membership has to offer!</span></span><br />\n&nbsp\;
LOCATION:Petaluma Area Chamber of Commerce 6 Petaluma Blvd N\, Suite B11
UID:e.1308.13972
SEQUENCE:3
DTSTAMP:20260420T143430Z
URL:https://business.petalumachamber.biz/events/details/member-orientation-and-refresher-13972
END:VEVENT

END:VCALENDAR
