BEGIN:VCALENDAR
VERSION:2.0
PRODID:-//ChamberMaster//Event Calendar 2.0//EN
METHOD:PUBLISH
X-PUBLISHED-TTL:P3D
REFRESH-INTERVAL:P3D
CALSCALE:GREGORIAN
BEGIN:VEVENT
DTSTART:20181209T013000Z
DTEND:20181209T033000Z
X-MICROSOFT-CDO-ALLDAYEVENT:FALSE
SUMMARY:Member's Exhibition Opening Reception\, Petaluma Arts Center
DESCRIPTION:2018 Members Exhibition opens December 8 with a reception honoring our member artists. We look forward to the return of many of our local favorites plus some new members. Just in time for holiday giving\, all of the work in the exhibition will be for sale. The Exhibition runs until January 12\, 2019.
X-ALT-DESC;FMTTYPE=text/html:2018 Members Exhibition opens December 8 with a reception honoring our member artists. We look forward to the return of many of our local favorites plus some new members. Just in time for holiday giving\, all of the work in the exhibition will be for sale. The Exhibition runs until January 12\, 2019.
LOCATION:Petaluma Arts Center\, 230 Lakeville Street\, Petaluma\, CA 94952
UID:e.1308.12845
SEQUENCE:3
DTSTAMP:20260419T143849Z
URL:https://business.petalumachamber.biz/events/details/member-s-exhibition-opening-reception-petaluma-arts-center-12845
END:VEVENT

END:VCALENDAR
