BEGIN:VCALENDAR
VERSION:2.0
PRODID:-//ChamberMaster//Event Calendar 2.0//EN
METHOD:PUBLISH
X-PUBLISHED-TTL:P3D
REFRESH-INTERVAL:P3D
CALSCALE:GREGORIAN
BEGIN:VEVENT
DTSTART:20181201T200000Z
DTEND:20181202T040000Z
X-MICROSOFT-CDO-ALLDAYEVENT:FALSE
SUMMARY:Merchant Holiday Open House
DESCRIPTION:Downtown merchants host the annual Holiday Open House. Enjoy holiday festivities\, horse & carriage rides\, balloon artist\, face painting\, live entertainment\, and treats at various merchant open houses. Also\, the Festival of Trees hosted by The Fabulous Women and sponsored by Hotel Petaluma will be taking place 3-9 that day. See the Petaluma Downtown website for participating merchants and see what they have to offer!
X-ALT-DESC;FMTTYPE=text/html:Downtown merchants host the annual Holiday Open House. Enjoy holiday festivities\, horse &amp\; carriage rides\, balloon artist\, face painting\, live entertainment\, and treats at various merchant open houses. Also\, the Festival of Trees hosted by The Fabulous Women and sponsored by Hotel Petaluma will be taking place 3-9 that day. See the Petaluma Downtown website for participating merchants and see what they have to offer!
LOCATION:Downtown Petaluma: 129 Petaluma Blvd N.\, Petaluma CA 94952
UID:e.1308.12835
SEQUENCE:3
DTSTAMP:20260419T143723Z
URL:https://business.petalumachamber.biz/events/details/merchant-holiday-open-house-12-01-2018-12835
END:VEVENT

END:VCALENDAR
