BEGIN:VCALENDAR
VERSION:2.0
PRODID:-//ChamberMaster//Event Calendar 2.0//EN
METHOD:PUBLISH
X-PUBLISHED-TTL:P3D
REFRESH-INTERVAL:P3D
CALSCALE:GREGORIAN
BEGIN:VEVENT
DTSTART:20191207T190000Z
DTEND:20191208T010000Z
X-MICROSOFT-CDO-ALLDAYEVENT:FALSE
SUMMARY:Merchant Holiday Open House
DESCRIPTION:JOIN US ON SATURDAY DECEMBER 7th\, 11am to 5pm for our annual Merchant's Holiday Open House. All day long\, we'll have fabulous shopping deals\, festive holiday treats\, horse & carriage rides from Putnam Plaza\, balloon art\, holiday market\, face painting & so much more. We hope to see you there! Please check back for a schedule of activities and entertainment in the downtown area.
X-ALT-DESC;FMTTYPE=text/html:JOIN US ON SATURDAY DECEMBER 7th\, 11am to 5pm for our annual Merchant&#39\;s Holiday Open House. All day long\, we&#39\;ll have fabulous shopping deals\, festive holiday treats\, horse &amp\; carriage rides from Putnam Plaza\, balloon art\, holiday market\, face painting &amp\; so much more. We hope to see you there! Please check back for a schedule of activities and entertainment in the downtown area.
LOCATION:Historic Downtown Petaluma
UID:e.1308.13959
SEQUENCE:3
DTSTAMP:20260420T112417Z
URL:https://business.petalumachamber.biz/events/details/merchant-holiday-open-house-12-07-2019-13959
END:VEVENT

END:VCALENDAR
