BEGIN:VCALENDAR
VERSION:2.0
PRODID:-//ChamberMaster//Event Calendar 2.0//EN
METHOD:PUBLISH
X-PUBLISHED-TTL:P3D
REFRESH-INTERVAL:P3D
CALSCALE:GREGORIAN
BEGIN:VEVENT
DTSTART:20200318T190000Z
DTEND:20200318T200000Z
X-MICROSOFT-CDO-ALLDAYEVENT:FALSE
SUMMARY:Midday PopUp
DESCRIPTION:Wednesday\, March 18th 12:00 pm noon Shollenberger Park\, Petaluma Member Christine Campbell is the walk leader for this midday walk. She's engaging\, fun and totally enthusiastic about walking and talking with women. We walk\, we talk\, we stop for moments\, we celebrate our feminine wisdom and cherish our time together. We are community and we walk to feel good! How will we do this? We meet\, take our time\, breathe in the winter air while we walk with an open heart and mind\, embracing the perfection of just being there. We walk rain or shine so if it's raining bring your rain boots and umbrella. The world unfurls its mysteries in the rain. Members: Free Guests: $5 Walk pace: Moderate to fast Distance: 1-2 miles Meet location emailed to you after sign up. Walks start promptly at 12 noon\, please arrive a few minutes early. Walks are approximately one hour\, but they end when they end. Please leave your doggo friends home.
X-ALT-DESC;FMTTYPE=text/html:Wednesday\, March 18th 12:00 pm noon Shollenberger Park\, Petaluma Member Christine Campbell is the walk leader for this midday walk. She&rsquo\;s engaging\, fun and totally enthusiastic about walking and talking with women. We walk\, we talk\, we stop for moments\, we celebrate our feminine wisdom and cherish our time together. We are community and we walk to feel good! How will we do this? We meet\, take our time\, breathe in the winter air while we walk with an open heart and mind\, embracing the perfection of just being there. We walk rain or shine so if it&rsquo\;s raining bring your rain boots and umbrella. The world unfurls its mysteries in the rain. Members: Free Guests: $5 Walk pace: Moderate to fast Distance: 1-2 miles Meet location emailed to you after sign up. Walks start promptly at 12 noon\, please arrive a few minutes early. Walks are approximately one hour\, but they end when they end. Please leave your doggo friends home.
LOCATION:Petaluma
UID:e.1308.13989
SEQUENCE:3
DTSTAMP:20260420T161429Z
URL:https://business.petalumachamber.biz/events/details/midday-popup-13989
END:VEVENT

END:VCALENDAR
