BEGIN:VCALENDAR
VERSION:2.0
PRODID:-//ChamberMaster//Event Calendar 2.0//EN
METHOD:PUBLISH
X-PUBLISHED-TTL:P3D
REFRESH-INTERVAL:P3D
CALSCALE:GREGORIAN
BEGIN:VEVENT
DTSTART:20210923T200000Z
DTEND:20210923T213000Z
X-MICROSOFT-CDO-ALLDAYEVENT:FALSE
SUMMARY:Might Homesharing Be for You?
DESCRIPTION:Learn how SHARE Sonoma County matches people who wish to age in place with people in need of permanent housing. SHARE works to create affordable housing\, community\, and companionship\, enhancing the health\, wellness\, and dignity of all. Amy Appleton\, the presenter\, is the Founder and Executive Director of SHARE Sonoma County\, operating since 2014 to create genuinely affordable housing through home sharing. Please register for this presentation online by clicking https://www.villagenetworkofpetaluma.org/events/1028 \, email us at info@VillageNetworkofPetaluma.org\, or call the Village office at 707-776-6055. The event is free\, donations appreciated. About Village Network of Petaluma Village Network is a non-profit grassroots organization empowering Petaluma-Penngrove area residents age 50+ to live independent\, vibrant and connected lives in the places we call home. Aging Better Together. For more information: Phone: 707 776-6055 Website: http://www.VillageNetworkofPetaluma.org Email: info@villagenetworkofpetaluma.org
X-ALT-DESC;FMTTYPE=text/html:Learn how SHARE Sonoma County matches people who wish to age in place with people in need of permanent housing. SHARE works to create affordable housing\, community\, and companionship\, enhancing the health\, wellness\, and dignity of all. Amy Appleton\, the presenter\, is the Founder and Executive Director of SHARE Sonoma County\, operating since 2014 to create genuinely affordable housing through home sharing. Please register for this presentation online by clicking https://www.villagenetworkofpetaluma.org/events/1028 \, email us at info@VillageNetworkofPetaluma.org\, or call the Village office at 707-776-6055. The event is free\, donations appreciated. About Village Network of Petaluma Village Network is a non-profit grassroots organization empowering Petaluma-Penngrove area residents age 50+ to live independent\, vibrant and connected lives in the places we call home. Aging Better Together. For more information: Phone: 707 776-6055 Website: http://www.VillageNetworkofPetaluma.org Email: info@villagenetworkofpetaluma.org
LOCATION:online Zoom
UID:e.1308.16350
SEQUENCE:3
DTSTAMP:20260421T222029Z
URL:https://business.petalumachamber.biz/events/details/might-homesharing-be-for-you-16350
END:VEVENT

END:VCALENDAR
