BEGIN:VCALENDAR
VERSION:2.0
PRODID:-//ChamberMaster//Event Calendar 2.0//EN
METHOD:PUBLISH
X-PUBLISHED-TTL:P3D
REFRESH-INTERVAL:P3D
CALSCALE:GREGORIAN
BEGIN:VEVENT
DTSTART:20200510T190000Z
DTEND:20200510T220000Z
X-MICROSOFT-CDO-ALLDAYEVENT:FALSE
SUMMARY:Mother's Day Patio Party
DESCRIPTION:DESCRIPTION: Celebrate all the moms in your life and bring them to McEvoy Ranch on this special day. We are setting aside our normal tours and tastings to celebrate moms with our Mother's Day Patio Party. What better way to celebrate Mom than surrounded by the beauty of McEvoy Ranch? Bring Mom to the Ranch for the Party and enjoy a buffet of snacks\, tickets to taste four wines\, live music\, and optional WalkAbout and HikeAbout tours throughout the day. Relax and soak up the sunshine and the views. DATE: Sunday May 10th 2020 TIME: 12:00 PM - 3:00 PM PRICE: $60 Public | $51 Social Club Member (20 Years Old or Younger: $25) LOCATION: McEvoy Ranch Tasting Room and Patio PLEASE NOTE: Comfortable shoes will provide stability on uneven/gravel surfaces. The weather can change quickly\; jackets\, sunglasses\, hats\, and umbrellas may come in handy. Mildly rainy conditions will not cancel the tour\, event\, or workshop. The speed limit is 15 mph or less once you turn off the main road out of respect for our neighbors and the local wildlife. McEvoy Ranch is a private residence\; please stay with your group during your visit. McEvoy Ranch is not responsible for injuries to visitors. Attendance and participation are at your own risk.
X-ALT-DESC;FMTTYPE=text/html:DESCRIPTION: Celebrate all the moms in your life and bring them to McEvoy Ranch on this special day. We are setting aside our normal tours and tastings to celebrate moms with our Mother&rsquo\;s Day Patio Party. What better way to celebrate Mom than surrounded by the beauty of McEvoy Ranch? Bring Mom to the Ranch for the Party and enjoy a buffet of snacks\, tickets to taste four wines\, live music\, and optional WalkAbout and HikeAbout tours throughout the day. Relax and soak up the sunshine and the views. DATE: Sunday May 10th 2020 TIME: 12:00 PM - 3:00 PM PRICE: $60 Public | $51 Social Club Member (20 Years Old or Younger: $25) LOCATION: McEvoy Ranch Tasting Room and Patio PLEASE NOTE: Comfortable shoes will provide stability on uneven/gravel surfaces. The weather can change quickly\; jackets\, sunglasses\, hats\, and umbrellas may come in handy. Mildly rainy conditions will not cancel the tour\, event\, or workshop. The speed limit is 15 mph or less once you turn off the main road out of respect for our neighbors and the local wildlife. McEvoy Ranch is a private residence\; please stay with your group during your visit. McEvoy Ranch is not responsible for injuries to visitors. Attendance and participation are at your own risk.
LOCATION:McEvoy Ranch 5935 Red Hill Rd. Petaluma\, CA 94953
UID:e.1308.14072
SEQUENCE:3
DTSTAMP:20260420T193256Z
URL:https://business.petalumachamber.biz/events/details/mother-s-day-patio-party-14072
END:VEVENT

END:VCALENDAR
