BEGIN:VCALENDAR
VERSION:2.0
PRODID:-//ChamberMaster//Event Calendar 2.0//EN
METHOD:PUBLISH
X-PUBLISHED-TTL:P3D
REFRESH-INTERVAL:P3D
CALSCALE:GREGORIAN
BEGIN:VEVENT
DTSTART:20200307T180000Z
DTEND:20200307T200000Z
X-MICROSOFT-CDO-ALLDAYEVENT:FALSE
SUMMARY:New Mentor Training
DESCRIPTION:We have 83 children waiting to be matched with a mentor like Karen! So we're asking you to dedicate just one hour each week to being a mentor. This small time commitment is all it takes to make a difference in the life of a child (and in yours)! To get started\, attend our New Mentor Training on Saturday\, March 7 with Mentor Program Manager Fidaa Shaheen. She will inspire you and guide you through the simple process of being matched with a child on our waitlist. From 10am-noon at the Cavanagh Rec Center located at 426 8th St in Petaluma. Call us at 707-778-4798 to let us know you'll be there.
X-ALT-DESC;FMTTYPE=text/html:We have 83 children waiting to be matched with a mentor like Karen! So we&#39\;re asking you to dedicate just one hour each week to being a mentor. This small time commitment is all it takes to make a difference in the life of a child (and in yours)! To get started\, attend our New Mentor Training on Saturday\, March 7 with Mentor Program Manager Fidaa Shaheen. She will inspire you and guide you through the simple process of being matched with a child on our waitlist. From 10am-noon at the Cavanagh Rec Center located at 426 8th St in Petaluma. Call us at 707-778-4798 to let us know you&rsquo\;ll be there.
LOCATION:
UID:e.1308.14066
SEQUENCE:3
DTSTAMP:20260420T162254Z
URL:https://business.petalumachamber.biz/events/details/new-mentor-training-14066
END:VEVENT

END:VCALENDAR
