BEGIN:VCALENDAR
VERSION:2.0
PRODID:-//ChamberMaster//Event Calendar 2.0//EN
METHOD:PUBLISH
X-PUBLISHED-TTL:P3D
REFRESH-INTERVAL:P3D
CALSCALE:GREGORIAN
BEGIN:VEVENT
DTSTART:20200101T050000Z
DTEND:20200101T093000Z
X-MICROSOFT-CDO-ALLDAYEVENT:FALSE
SUMMARY:New Years Party 2020
DESCRIPTION:This is the hottest New Year's Eve celebration in Sonoma County. We are rolling out the red carpet to create a beautiful\, high class event with a complimentary champagne bar\, complimentary passed appetizers\, multiple DJ's and entertainment. Doors open at 9pm. There is a limited amount of VIP tables\, please contact Perch and Plow for more information. Black tie optional. This event will sell out.
X-ALT-DESC;FMTTYPE=text/html:This is the hottest New Year&rsquo\;s Eve celebration in Sonoma County. We are rolling out the red carpet to create a beautiful\, high class event with a complimentary champagne bar\, complimentary passed appetizers\, multiple DJ&#39\;s and entertainment. Doors open at 9pm. There is a limited amount of VIP tables\, please contact Perch and Plow for more information. Black tie optional. This event will sell out.
LOCATION:Perch and Plow 96 Old Courthouse Square Santa Rosa\, CA 95404
UID:e.1308.13978
SEQUENCE:3
DTSTAMP:20260420T112239Z
URL:https://business.petalumachamber.biz/events/details/new-years-party-2020-13978
END:VEVENT

END:VCALENDAR
