BEGIN:VCALENDAR
VERSION:2.0
PRODID:-//ChamberMaster//Event Calendar 2.0//EN
METHOD:PUBLISH
X-PUBLISHED-TTL:P3D
REFRESH-INTERVAL:P3D
CALSCALE:GREGORIAN
BEGIN:VEVENT
DTSTART:20220127T000000Z
DTEND:20220127T020000Z
X-MICROSOFT-CDO-ALLDAYEVENT:FALSE
SUMMARY:North Bay Business Journal 2022 Book of Lists Event
DESCRIPTION:Have you been waiting to get your North Bay Business Journal 2022 Book Of Lists? Now is your chance! We will be hosting a drive-up event so you are still able to get your hands on a copy - hot off the press. Now more than ever\, this information is key to your business. Reserve a copy and pick it up via drive through at our Rohnert Park office location or reserve a copy by mail or delivery.
X-ALT-DESC;FMTTYPE=text/html:Have you been waiting to get your North Bay Business Journal 2022 Book Of Lists? Now is your chance! We will be hosting a drive-up event so you are still able to get your hands on a copy - hot off the press. Now more than ever\, this information is key to your business. Reserve a copy and pick it up via drive through at our Rohnert Park office location or reserve a copy by mail or delivery.
LOCATION:Press Democrat 5505 Redwood Drive Rohnert Park\, Ca 94928
UID:e.1308.16380
SEQUENCE:3
DTSTAMP:20260422T044618Z
URL:https://business.petalumachamber.biz/events/details/north-bay-business-journal-2022-book-of-lists-event-01-26-2022-16380
END:VEVENT

END:VCALENDAR
