BEGIN:VCALENDAR
VERSION:2.0
PRODID:-//ChamberMaster//Event Calendar 2.0//EN
METHOD:PUBLISH
X-PUBLISHED-TTL:P3D
REFRESH-INTERVAL:P3D
CALSCALE:GREGORIAN
BEGIN:VEVENT
DTSTART:20220309T160000Z
DTEND:20220309T190000Z
X-MICROSOFT-CDO-ALLDAYEVENT:FALSE
SUMMARY:North Bay Business Journal's Economic Outlook Summit In Partnership with Sonoma State University
DESCRIPTION:The North Bay's original and most comprehensive economic forecast. Partnered with Sonoma State University\, this annual conference will provide the premier economic outlook for the North Bay\, including regional\, statewide and international analysis. Robert Eyler\, Ph.D. is a professor at Sonoma State University and director of SSU's Center for Regional Economic Analysis. He will deliver his annual North Bay forecast. More speakers to be announced... Continental breakfast included. This event is a Hybrid Event\, we have both in-person and livestream tickets available.
X-ALT-DESC;FMTTYPE=text/html:The North Bay&#39\;s original and most comprehensive economic forecast. Partnered with Sonoma State University\, this annual conference will provide the premier economic outlook for the North Bay\, including regional\, statewide and international analysis. Robert Eyler\, Ph.D. is a professor at Sonoma State University and director of SSU&#39\;s Center for Regional Economic Analysis. He will deliver his annual North Bay forecast. More speakers to be announced... Continental breakfast included. This event is a Hybrid Event\, we have both in-person and livestream tickets available.
LOCATION:Sonoma State University's Student Center 3rd Floor Ballroom 1801 E. Cotati Ave Rohnert Park\, CA 94928
UID:e.1308.16381
SEQUENCE:3
DTSTAMP:20260422T083028Z
URL:https://business.petalumachamber.biz/events/details/north-bay-business-journal-s-economic-outlook-summit-in-partnership-with-sonoma-state-university-16381
END:VEVENT

END:VCALENDAR
