BEGIN:VCALENDAR
VERSION:2.0
PRODID:-//ChamberMaster//Event Calendar 2.0//EN
METHOD:PUBLISH
X-PUBLISHED-TTL:P3D
REFRESH-INTERVAL:P3D
CALSCALE:GREGORIAN
BEGIN:VEVENT
DTSTART:20211020T230000Z
DTEND:20211021T003000Z
X-MICROSOFT-CDO-ALLDAYEVENT:FALSE
SUMMARY:North Bay Business Journal's Latino Business Leadership Awards
DESCRIPTION:Join us for the 6th Annual Latino Business Leadership Awards\, honoring Latino business leaders and their contributions to the North Bay. This virtual event will celebrate outstanding Latino business leaders from all industries and companies serving the North Bay. A must-attend event for all corporate and small business professionals interested in reaching one of the fastest growing segments in the North Bay. We hope you will join us in celebration of their incredible accomplishments and successes.
X-ALT-DESC;FMTTYPE=text/html:Join us for the 6th Annual Latino Business Leadership Awards\, honoring Latino business leaders and their contributions to the North Bay. This virtual event will celebrate outstanding Latino business leaders from all industries and companies serving the North Bay. A must-attend event for all corporate and small business professionals interested in reaching one of the fastest growing segments in the North Bay. We hope you will join us in celebration of their incredible accomplishments and successes.
LOCATION:Virtual Event
UID:e.1308.16360
SEQUENCE:3
DTSTAMP:20260422T000255Z
URL:https://business.petalumachamber.biz/events/details/north-bay-business-journal-s-latino-business-leadership-awards-16360
END:VEVENT

END:VCALENDAR
