BEGIN:VCALENDAR
VERSION:2.0
PRODID:-//ChamberMaster//Event Calendar 2.0//EN
METHOD:PUBLISH
X-PUBLISHED-TTL:P3D
REFRESH-INTERVAL:P3D
CALSCALE:GREGORIAN
BEGIN:VEVENT
DTSTART:20211026T170000Z
DTEND:20211026T183000Z
X-MICROSOFT-CDO-ALLDAYEVENT:FALSE
SUMMARY:North Bay Business Journal's Virtual Cybersecurity Conference
DESCRIPTION:Learn how to conduct and protect your business in today's cyber-world. With cyber-attacks on the rise and an increase in essential cloud technology for the workplace\, effective cybersecurity is vital to the future of your company. Learn how to protect your business from cyber threats at this live virtual conference featuring world-renowned cybersecurity expert\, famed novelist\, and former U.S. chief counter-terrorism advisor\, Richard Clarke. Gain valuable insight from America's first Cyber Czar and ensure you have a strong strategy in place to defend your organization at the North Bay Business Journal's 2021 Cybersecurity Conference. Just added Robert P. Boles\, CEO of Blokworxs and Brian Rober\, Senior Vice President\, Chief Information Officer\, Exchange Bank as panelists.
X-ALT-DESC;FMTTYPE=text/html:Learn how to conduct and protect your business in today&#39\;s cyber-world. With cyber-attacks on the rise and an increase in essential cloud technology for the workplace\, effective cybersecurity is vital to the future of your company. Learn how to protect your business from cyber threats at this live virtual conference featuring world-renowned cybersecurity expert\, famed novelist\, and former U.S. chief counter-terrorism advisor\, Richard Clarke. Gain valuable insight from America&rsquo\;s first Cyber Czar and ensure you have a strong strategy in place to defend your organization at the North Bay Business Journal&rsquo\;s 2021 Cybersecurity Conference. Just added Robert P. Boles\, CEO of Blokworxs and Brian Rober\, Senior Vice President\, Chief Information Officer\, Exchange Bank as panelists.
LOCATION:Virtual Event
UID:e.1308.16359
SEQUENCE:3
DTSTAMP:20260422T000054Z
URL:https://business.petalumachamber.biz/events/details/north-bay-business-journal-s-virtual-cybersecurity-conference-16359
END:VEVENT

END:VCALENDAR
