BEGIN:VCALENDAR
VERSION:2.0
PRODID:-//ChamberMaster//Event Calendar 2.0//EN
METHOD:PUBLISH
X-PUBLISHED-TTL:P3D
REFRESH-INTERVAL:P3D
CALSCALE:GREGORIAN
BEGIN:VEVENT
DTSTART:20211110T180000Z
DTEND:20211110T193000Z
X-MICROSOFT-CDO-ALLDAYEVENT:FALSE
SUMMARY:North bay Business Journal's Virtual Impact Sonoma Conference
DESCRIPTION:A strategic look into 2022\; sharing critical information for Sonoma County. Gain valuable insight at this virtual event from local thought leaders on the most pressing topics facing Sonoma County business owners including timely information on the effects of the drought\, workforce recruiting\, housing\, child care\, and the restaurant industry. Keynote speakers are Sheba Person Whitley\, Executive Director of the Sonoma County Economic Development Board and Grant Davis\, General Manager of the SOnoma County Water Agency. Panelists include Melanie Dodson\, Executive Director of Community Care Council of Sonoma County (4Cs)\; Jen Klose\, Executive Director of Generation Housing Santa Rosa\; Joe Madigan\, CEO of Nelson and Terri Stark\, Proprietor and CO-Owner of Stark Reality Restaurants.
X-ALT-DESC;FMTTYPE=text/html:A strategic look into 2022\; sharing critical information for Sonoma County. Gain valuable insight at this virtual event from local thought leaders on the most pressing topics facing Sonoma County business owners including timely information on the effects of the drought\, workforce recruiting\, housing\, child care\, and the restaurant industry. Keynote speakers are Sheba Person Whitley\, Executive Director of the Sonoma County Economic Development Board and Grant Davis\, General Manager of the SOnoma County Water Agency. Panelists include Melanie Dodson\, Executive Director of Community Care Council of Sonoma County (4Cs)\; Jen Klose\, Executive Director of Generation Housing Santa Rosa\; Joe Madigan\, CEO of Nelson and Terri Stark\, Proprietor and CO-Owner of Stark Reality Restaurants.
LOCATION:Virtual Event
UID:e.1308.16361
SEQUENCE:3
DTSTAMP:20260422T013256Z
URL:https://business.petalumachamber.biz/events/details/north-bay-business-journal-s-virtual-impact-sonoma-conference-16361
END:VEVENT

END:VCALENDAR
