BEGIN:VCALENDAR
VERSION:2.0
PRODID:-//ChamberMaster//Event Calendar 2.0//EN
METHOD:PUBLISH
X-PUBLISHED-TTL:P3D
REFRESH-INTERVAL:P3D
CALSCALE:GREGORIAN
BEGIN:VEVENT
DTSTART:20190608T200000Z
DTEND:20190608T230000Z
X-MICROSOFT-CDO-ALLDAYEVENT:FALSE
SUMMARY:North Coast Wine & Food Festival
DESCRIPTION:90 Gold and silver-medal wines. 25 amazing regional chefs. 1 extraordinary event. VIP Access allows for early entry of 12:30 p.m. The Wines: Featuring winning wines from prestigious industry judges in a blind taste test\, these are wines that achieve both a Gold Medal status and 90+ points in The Press Democrat North Coast Wine Competition. Taste wines from Napa\, Sonoma\, Lake\, Mendocino and Marin counties\, all in one location! The Food: 25 amazing chefs from great restaurants like Valette\, El Dorado Kitchen\, The Spinster Sisters\, John Ash & Company\, Chalkboard\, Dry Creek Kitchen and many more   all tastings included in the ticket price. Check out the chef bios here: http://www.northcoastwineandfood.com/the-chefs/ Buy your tickets now\, as we're expecting to sell out! Attendees must be 21 or older\, so please be prepared to present a valid ID at the event. Children\, babies\, babies in strollers\, and any pets will not be admitted due to ABC and health regulations. No exceptions.
X-ALT-DESC;FMTTYPE=text/html:90 Gold and silver-medal wines. 25 amazing regional chefs. 1 extraordinary event. VIP Access allows for early entry of 12:30 p.m. The Wines: Featuring winning wines from prestigious industry judges in a blind taste test\, these are wines that achieve both a Gold Medal status and 90+ points in The Press Democrat North Coast Wine Competition. Taste wines from Napa\, Sonoma\, Lake\, Mendocino and Marin counties\, all in one location! The Food: 25 amazing chefs from great restaurants like Valette\, El Dorado Kitchen\, The Spinster Sisters\, John Ash &amp\; Company\, Chalkboard\, Dry Creek Kitchen and many more &ndash\; all tastings included in the ticket price. Check out the chef bios here: http://www.northcoastwineandfood.com/the-chefs/ Buy your tickets now\, as we&rsquo\;re expecting to sell out! Attendees must be 21 or older\, so please be prepared to present a valid ID at the event. Children\, babies\, babies in strollers\, and any pets will not be admitted due to ABC and health regulations. No exceptions.
LOCATION:SOMO Village Event Center 1100 Valley House Drive Rohnert Park\, CA 94928
UID:e.1308.12943
SEQUENCE:3
DTSTAMP:20260420T004608Z
URL:https://business.petalumachamber.biz/events/details/north-coast-wine-food-festival-12943
END:VEVENT

END:VCALENDAR
