BEGIN:VCALENDAR
VERSION:2.0
PRODID:-//ChamberMaster//Event Calendar 2.0//EN
METHOD:PUBLISH
X-PUBLISHED-TTL:P3D
REFRESH-INTERVAL:P3D
CALSCALE:GREGORIAN
BEGIN:VEVENT
DTSTART:20190518T023000Z
DTEND:20190519T050000Z
X-MICROSOFT-CDO-ALLDAYEVENT:FALSE
SUMMARY:“Of Love & Laughter” Spring Concert
DESCRIPTION:The Petaluma Chorale present its spring concert featuring arrangements of musical\, pop and classical works that that will bring a smile to your face and a tear to your eye. Under the direction of Linda Evans Manilow and with the support of accompanist\, Miles McKenzie\, the Petaluma Chorale will explore Love & Laughter through song. The Petaluma Chorale is a community chorus sponsored by the Santa Rosa Junior College\, Community Education - Petaluma Campus.
X-ALT-DESC;FMTTYPE=text/html:The Petaluma Chorale present its spring concert featuring arrangements of musical\, pop and classical works that that will bring a smile to your face and a tear to your eye. Under the direction of Linda Evans Manilow and with the support of accompanist\, Miles McKenzie\, the Petaluma Chorale will explore Love &amp\; Laughter through song. The Petaluma Chorale is a community chorus sponsored by the Santa Rosa Junior College\, Community Education - Petaluma Campus.
LOCATION:St. John's Espiscopal Church\, Cram Hall 40 Fifth Street\, Petaluma\, CA
UID:e.1308.13622
SEQUENCE:3
DTSTAMP:20260419T230114Z
URL:https://business.petalumachamber.biz/events/details/of-love-laughter-spring-concert-13622
END:VEVENT

END:VCALENDAR
