BEGIN:VCALENDAR
VERSION:2.0
PRODID:-//ChamberMaster//Event Calendar 2.0//EN
METHOD:PUBLISH
X-PUBLISHED-TTL:P3D
REFRESH-INTERVAL:P3D
CALSCALE:GREGORIAN
BEGIN:VEVENT
DTSTART:20200113T210000Z
DTEND:20200114T000000Z
X-MICROSOFT-CDO-ALLDAYEVENT:FALSE
SUMMARY:Orientation to Volunteering for the Village Network of Petaluma
DESCRIPTION:New Volunteer Orientation   Do you have a resolution to volunteer for a great community program in the New Year?\n\nJoin us Monday\, January 13th for an orientation to volunteering for the Village Network of Petaluma  1- 4:00 p.m.\n\nNew location - Village Network Community Room. 410 D St. (at 5th) in the Methodist Church. \n\n\n\nThe Village Network of Petaluma is a vibrant community of members and volunteers dedicated to supporting each other as we age. Our members are 55+ but anyone over the age of 21 is welcome to volunteer. Drivers are one of our most popular volunteer positions.  We  also have volunteer positions availablein our Office\, and our Technology\, Friendly Visiting and  Program\, teams. Please call the Village office for more information. Most of our volunteer positions are flexible and do not require having a set schedule. Volunteering is a great way to meet new friends and enrich your life and the lives of others!
X-ALT-DESC;FMTTYPE=text/html:<br />\n<strong><u><span style="color:#1d2228"><span style="font-family:calibri"><span style="font-size:10pt">New Volunteer Orientation &ndash\; Do you have a resolution to volunteer for a great community program in the New Year?</span></span></span></u></strong><br />\n<font color="#1d2228" face="calibri" size="2">Join us Monday\, January 13</font><sup style="color:rgb(29\, 34\, 40)\; font-family:calibri\; font-size:10pt">th</sup><font color="#1d2228" face="calibri" size="2">&nbsp\;for an orientation to volunteering for the&nbsp\;</font><strong><font color="#1d2228" face="calibri" size="2">Village Network of Petaluma</font>&nbsp\;&nbsp\;</strong><span style="color:#1d2228"><span style="font-family:calibri"><span style="font-size:10pt">1- 4:00 p.m.</span></span></span><br />\n<span style="color:#1d2228"><span style="font-family:calibri"><span style="font-size:10pt">New location - Village Network Community Room. 410 D St. (at 5<sup>th</sup>) in the Methodist Church.&nbsp\;</span></span></span><br />\n<br />\n<span style="color:#1d2228"><span style="font-family:calibri"><span style="font-size:10pt">The Village Network of Petaluma is a vibrant community of members and volunteers dedicated to supporting each other as we age.&nbsp\;Our members are 55+ but anyone over the age of 21 is welcome to volunteer.&nbsp\;Drivers are one of our most popular volunteer positions.&nbsp\;&nbsp\;We &nbsp\;also have volunteer positions availablein our&nbsp\;Office\,&nbsp\;and our Technology\, Friendly Visiting and&nbsp\;&nbsp\;Program\, teams. Please call the Village office for more information. Most of our volunteer positions are flexible and do not require having a set schedule. Volunteering is a great way to meet new friends and enrich your life and the lives of others!&nbsp\;</span></span></span><br />\n<br />\n<br />\n&nbsp\;
LOCATION:New location - Village Network Community Room. 410 D St. (at 5th) in the Methodist Church.
UID:e.1308.13985
SEQUENCE:3
DTSTAMP:20260420T131801Z
URL:https://business.petalumachamber.biz/events/details/orientation-to-volunteering-for-the-village-network-of-petaluma-13985
END:VEVENT

END:VCALENDAR
