BEGIN:VCALENDAR
VERSION:2.0
PRODID:-//ChamberMaster//Event Calendar 2.0//EN
METHOD:PUBLISH
X-PUBLISHED-TTL:P3D
REFRESH-INTERVAL:P3D
CALSCALE:GREGORIAN
BEGIN:VEVENT
DTSTART:20190908T010000Z
DTEND:20190908T050000Z
X-MICROSOFT-CDO-ALLDAYEVENT:FALSE
SUMMARY:Outdoor Summer Series: AMERICAN GRAFFITI at the Drive-In
DESCRIPTION:The 2019 Summer Outdoor Screening Series has been generously underwritten by Tim McDonald & Bob Scott\, Empire Mini Storage\, Karma Dog Construction\, and Ron and Jane Pavelka. MOVIE: AMERICAN GRAFFITI (1973) Directed by George Lucas   WHEN: Saturday\, July 20th - Gates open at 6PM | Movie starts at dusk (8PMish) WHERE: Citrus Fair Fairgrounds in Cloverdale WHO: Beer available from Bear Republic and wine from the AVFS cellar. Come tailgate with us! WHAT:  * Local band will play 6-7:30PM * Car cramming contest (win tickets to the 5th Annual Alexander Valley Film Festival) * Costume contest (win tickets to the 5th Annual Alexander Valley Film Festival) * Face painting with Sandra Novia * 50/50 raffle (1 ticket for $5 | 3 for $10 | 7 for $20) * Snacks and sodas available at the concession stand ---No outside alcohol allowed (on-site beer and wine sales help fund our programs)--- TICKETS: $40 - CAR TICKETS (fill 'er up with as many as she can hold)/$12 - INDIVIDUAL TICKETS (bring your own chair) - Prices go up at the door.  All ticket purchases are non-refundable.
X-ALT-DESC;FMTTYPE=text/html:The 2019 Summer Outdoor Screening Series has been generously underwritten by Tim McDonald &amp\; Bob Scott\, Empire Mini Storage\, Karma Dog Construction\, and Ron and Jane Pavelka. MOVIE:&nbsp\;AMERICAN GRAFFITI (1973) Directed by George Lucas&nbsp\;&nbsp\; WHEN:&nbsp\;Saturday\, July 20th - Gates open at 6PM | Movie starts at dusk (8PMish) WHERE:&nbsp\;Citrus Fair Fairgrounds in Cloverdale WHO:&nbsp\;Beer available from Bear Republic and wine from the AVFS cellar. Come tailgate with us! WHAT:&nbsp\; * Local band will play 6-7:30PM * Car cramming contest&nbsp\;(win tickets to the 5th Annual Alexander Valley Film Festival) * Costume contest&nbsp\;(win tickets to the 5th Annual Alexander Valley Film Festival) * Face painting with Sandra Novia * 50/50 raffle&nbsp\;(1 ticket for $5 | 3 for $10 | 7 for $20) * Snacks and sodas available at the concession stand ---No outside alcohol allowed (on-site beer and wine sales help fund our programs)--- TICKETS:&nbsp\;$40 - CAR TICKETS (fill &#39\;er up with as many as she can hold)/$12 - INDIVIDUAL TICKETS (bring your own chair) -&nbsp\;Prices go up at the door.&nbsp\; All ticket purchases are non-refundable.
LOCATION:Cloverdale Citrus Fair 1 Citrus Fair Drive Cloverdale\, CA 95425
UID:e.1308.13762
SEQUENCE:3
DTSTAMP:20260420T061415Z
URL:https://business.petalumachamber.biz/events/details/outdoor-summer-series-american-graffiti-at-the-drive-in-13762
END:VEVENT

END:VCALENDAR
