BEGIN:VCALENDAR
VERSION:2.0
PRODID:-//ChamberMaster//Event Calendar 2.0//EN
METHOD:PUBLISH
X-PUBLISHED-TTL:P3D
REFRESH-INTERVAL:P3D
CALSCALE:GREGORIAN
BEGIN:VEVENT
DTSTART:20190721T020000Z
DTEND:20190721T060000Z
X-MICROSOFT-CDO-ALLDAYEVENT:FALSE
SUMMARY:Outdoor Summer Series: GHOSTBUSTERS at the Drive-In
DESCRIPTION:The 2019 Summer Outdoor Screening Series has been generously underwritten by Tim McDonald & Bob Scott\, Empire Mini Storage\, Karma Dog Construction\, and Ron and Jane Pavelka. MOVIE: GHOSTBUSTERS (1984) Directed by Ivan Reitman   WHEN: Saturday\, July 20th - Gates open at 7PM | Movie starts at dusk (9PMish) WHERE: Citrus Fair Fairgrounds in Cloverdale WHO: Cloverdale Kiwanis will have food for sale\, beer available from Bear Republic and wine from the AVFS cellar! WHAT:  * Local band NO ACCOUNT will play 7-8:30PM * Car cramming contest (win tickets to the 5th Annual Alexander Valley Film Festival) * Costume contest (win tickets to the 5th Annual Alexander Valley Film Festival) * Face painting with Sandra Novia * 50/50 raffle (1 ticket for $5 | 3 for $10 | 7 for $20) * Snacks and sodas available at the concession stand ---No outside alcohol allowed (on-site beer and wine sales help fund our programs)--- TICKETS: $40 - CAR TICKETS (fill 'er up with as many as she can hold)/$12 - INDIVIDUAL TICKETS (bring your own chair) - Prices go up at the door.  All ticket purchases are non-refundable.
X-ALT-DESC;FMTTYPE=text/html:The 2019 Summer Outdoor Screening Series has been generously underwritten by Tim McDonald &amp\; Bob Scott\, Empire Mini Storage\, Karma Dog Construction\, and Ron and Jane Pavelka. MOVIE:&nbsp\;GHOSTBUSTERS (1984) Directed by Ivan Reitman&nbsp\;&nbsp\; WHEN:&nbsp\;Saturday\, July 20th - Gates open at 7PM | Movie starts at dusk (9PMish) WHERE:&nbsp\;Citrus Fair Fairgrounds in Cloverdale WHO:&nbsp\;Cloverdale Kiwanis will have food for sale\,&nbsp\;beer available&nbsp\;from Bear Republic and wine from the AVFS cellar! WHAT:&nbsp\; * Local band&nbsp\;NO ACCOUNT&nbsp\;will play 7-8:30PM *&nbsp\;Car cramming contest&nbsp\;(win tickets to the 5th Annual Alexander Valley Film Festival) * Costume contest&nbsp\;(win tickets to the 5th Annual Alexander Valley Film Festival) * Face painting with Sandra Novia * 50/50 raffle&nbsp\;(1 ticket for $5 | 3 for $10 | 7 for $20) * Snacks and sodas available&nbsp\;at the concession stand ---No outside alcohol allowed (on-site beer and wine sales help fund our programs)--- TICKETS:&nbsp\;$40 - CAR TICKETS (fill &#39\;er up with as many as she can hold)/$12 - INDIVIDUAL TICKETS (bring your own chair) -&nbsp\;Prices go up at the door.&nbsp\; All ticket purchases are non-refundable.
LOCATION:Cloverdale Citrus Fair 1Citrus Fair Drive Cloverdale\, CA 95425
UID:e.1308.13761
SEQUENCE:3
DTSTAMP:20260420T023549Z
URL:https://business.petalumachamber.biz/events/details/outdoor-summer-series-ghostbusters-at-the-drive-in-13761
END:VEVENT

END:VCALENDAR
