BEGIN:VCALENDAR
VERSION:2.0
PRODID:-//ChamberMaster//Event Calendar 2.0//EN
METHOD:PUBLISH
X-PUBLISHED-TTL:P3D
REFRESH-INTERVAL:P3D
CALSCALE:GREGORIAN
BEGIN:VEVENT
DTSTART:20181117T023000Z
DTEND:20181117T043000Z
X-MICROSOFT-CDO-ALLDAYEVENT:FALSE
SUMMARY:Paint Night with Alex Cole
DESCRIPTION:Put away technology for a couple of hours\, get out of your head and into the fun of playing with your hands again. Using acrylic paint you will collage\, paint\, scribble\, splatter your way to beautiful paintings. Whether you have never painted before or are a skilled artist\, Alex Cole's classes are designed for all levels. Come away inspired and enchanted with what you can create. Fee of $65 includes a glass of wine\, light appetizers and all paintings materials. Aprons provided but please dress for mess.
X-ALT-DESC;FMTTYPE=text/html:<span style="color:rgb(32\, 33\, 36)\; font-family:roboto\,arial\,sans-serif\; font-size:16px">Put away technology for a couple of hours\, get out of your head and into the fun of playing with your hands again. Using acrylic paint you will collage\, paint\, scribble\, splatter your way to beautiful paintings. Whether you have never painted before or are a skilled artist\, Alex Cole&#39\;s classes are designed for all levels. Come away inspired and enchanted with what you can create. Fee of $65 includes a glass of wine\, light appetizers and all paintings materials. Aprons provided but please dress for mess.</span>
LOCATION:Keller Street Cowork 140 Keller Street Petaluma\, CA
UID:e.1308.12841
SEQUENCE:3
DTSTAMP:20260419T130133Z
URL:https://business.petalumachamber.biz/events/details/paint-night-with-alex-cole-12841
END:VEVENT

END:VCALENDAR
