BEGIN:VCALENDAR
VERSION:2.0
PRODID:-//ChamberMaster//Event Calendar 2.0//EN
METHOD:PUBLISH
X-PUBLISHED-TTL:P3D
REFRESH-INTERVAL:P3D
CALSCALE:GREGORIAN
BEGIN:VEVENT
DTSTART:20190116T030000Z
DTEND:20190116T050000Z
X-MICROSOFT-CDO-ALLDAYEVENT:FALSE
SUMMARY:Paint Nite
DESCRIPTION:Paint Nite! A Fundraiser for Gan Israel Preschool Join us as we raise glasses and funds for Gan Israel Preschool in Petaluma. Feel good about giving as artist Lisa Pedrani guides you and your friends through two hours of painting and sipping. Non-artists welcome! $15 of each ticket purchase will go to Gan Israel\, now in its 40th year at B'nai Israel Jewish Center. Paint Nite has helped organizations raise over $3.5 million nationally.
X-ALT-DESC;FMTTYPE=text/html:Paint Nite! A Fundraiser for Gan Israel Preschool Join us as we raise glasses and funds for Gan Israel Preschool in Petaluma. Feel good about giving as artist Lisa Pedrani guides you and your friends through two hours of painting and sipping. Non-artists welcome! $15 of each ticket purchase will go to Gan Israel\, now in its 40th year at B&rsquo\;nai Israel Jewish Center. Paint Nite has helped organizations raise over $3.5 million nationally.
LOCATION:B'nai Israel Jewish Center 740 Western Avenue Petaluma\, CA 94952
UID:e.1308.12893
SEQUENCE:3
DTSTAMP:20260419T161204Z
URL:https://business.petalumachamber.biz/events/details/paint-nite-12893
END:VEVENT

END:VCALENDAR
