BEGIN:VCALENDAR
VERSION:2.0
PRODID:-//ChamberMaster//Event Calendar 2.0//EN
METHOD:PUBLISH
X-PUBLISHED-TTL:P3D
REFRESH-INTERVAL:P3D
CALSCALE:GREGORIAN
BEGIN:VEVENT
DTSTART:20190907T170000Z
DTEND:20190908T220000Z
X-MICROSOFT-CDO-ALLDAYEVENT:FALSE
SUMMARY:Painting with George Scribner
DESCRIPTION:A Two Day Beginning to Intermediate oil painting workshop using water mixable oil paints. We'll be painting from still life set ups with a demo for every exercise. For more information. https://healdsburgcenterforthearts.org/painting-with-george-scribner/
X-ALT-DESC;FMTTYPE=text/html:A Two Day Beginning to Intermediate oil painting workshop using water mixable oil paints. We&rsquo\;ll be painting from still life set ups with a demo for every exercise. For more information. https://healdsburgcenterforthearts.org/painting-with-george-scribner/
LOCATION:Healdsburg Community Center 1557 Healdsburg Ave
UID:e.1308.13794
SEQUENCE:3
DTSTAMP:20260420T060611Z
URL:https://business.petalumachamber.biz/events/details/painting-with-george-scribner-13794
END:VEVENT

END:VCALENDAR
