BEGIN:VCALENDAR
VERSION:2.0
PRODID:-//ChamberMaster//Event Calendar 2.0//EN
METHOD:PUBLISH
X-PUBLISHED-TTL:P3D
REFRESH-INTERVAL:P3D
CALSCALE:GREGORIAN
BEGIN:VEVENT
DTSTART:20181207T003000Z
DTEND:20181207T023000Z
X-MICROSOFT-CDO-ALLDAYEVENT:FALSE
SUMMARY:Passeggiata Shoes Grand Opening
DESCRIPTION:Join us at the grand opening celebration and L'Artiste Trunk Show at Passeggiata Shoes. Ribbon cutting ceremony\, refreshments\, prizes\, special deals and fun!
X-ALT-DESC;FMTTYPE=text/html:Join us at the grand opening celebration and L&#39\;Artiste Trunk Show at Passeggiata Shoes. Ribbon cutting ceremony\, refreshments\, prizes\, special deals and fun!
LOCATION:7 Western Ave Petaluma
UID:e.1308.12843
SEQUENCE:3
DTSTAMP:20260419T144005Z
URL:https://business.petalumachamber.biz/events/details/passeggiata-shoes-grand-opening-12843
END:VEVENT

END:VCALENDAR
