BEGIN:VCALENDAR
VERSION:2.0
PRODID:-//ChamberMaster//Event Calendar 2.0//EN
METHOD:PUBLISH
X-PUBLISHED-TTL:P3D
REFRESH-INTERVAL:P3D
CALSCALE:GREGORIAN
BEGIN:VEVENT
DTSTART:20190921T180000Z
DTEND:20190921T220000Z
X-MICROSOFT-CDO-ALLDAYEVENT:FALSE
SUMMARY:"Pawsminster" the Fun Dog Show
DESCRIPTION:Join us at Lagunitas Brewery for Sonoma County's own dog show meant for "everyday dogs!" Amazing prize baskets! Treats and ribbons for all participants. Enter any or all categories: Silver Whiskers\, Most Appealing Eyes\, Wiggle/Waggiest\, Star Quality\, and Loved Most by the Pawparazzi. Proceeds benefit the Paws for Love Foundation.
X-ALT-DESC;FMTTYPE=text/html:Join us at Lagunitas Brewery for Sonoma County&#39\;s own dog show meant for &quot\;everyday dogs!&quot\; Amazing prize baskets! Treats and ribbons for all participants. Enter any or all categories: Silver Whiskers\, Most Appealing Eyes\, Wiggle/Waggiest\, Star Quality\, and Loved Most by the Pawparazzi. Proceeds benefit the Paws for Love Foundation.
LOCATION:Lagunitas Brewing Co. 1280 N. McDowell Blvd Petaluma
UID:e.1308.13795
SEQUENCE:3
DTSTAMP:20260420T061223Z
URL:https://business.petalumachamber.biz/events/details/pawsminster-the-fun-dog-show-13795
END:VEVENT

END:VCALENDAR
