BEGIN:VCALENDAR
VERSION:2.0
PRODID:-//ChamberMaster//Event Calendar 2.0//EN
METHOD:PUBLISH
X-PUBLISHED-TTL:P3D
REFRESH-INTERVAL:P3D
CALSCALE:GREGORIAN
BEGIN:VEVENT
DTSTART:20200622T190000Z
DTEND:20200724T190000Z
X-MICROSOFT-CDO-ALLDAYEVENT:FALSE
SUMMARY:PDI Pain Busters Get Up & Get Moving for Healthy Kids 5K
DESCRIPTION:There's no better time than now to stay active while having fun. PDI Surgery Center's Pain Busters want you and your family to join us on a fun run\, walk\, bike or skate for healthy kids 5K. You can take part in PDI's Get Up & Get Moving for Healthy Kids 5K\, on your own time from ?July 27th   August 9th. Get up and get outside in your neighborhood or head to your local park or favorite trail. It doesn't matter where\, as long as it's outside. PDI hopes that we can come together as a virtual community and enjoy fun\, fitness\, and the common goal of uniting people in our community and encouraging overall health. TO JOIN:   Register for PDI's Pain Busters Get Up and Get Moving for Healthy Kids 5K   Complete a 5K (3.1 miles) run\, walk\, bike or skate any time from July 27th   August 9th... while observing proper social distancing of course!   Get creative on the location of your 5K.   Pick your attire (we always encourage costumes)   Share your pics on our Facebook page Prizes will be awarded for:   Most creative location (trail\, path or street\, etc.)   Most creative costume
X-ALT-DESC;FMTTYPE=text/html:There&#39\;s no better time than now to stay active while having fun. PDI Surgery Center&#39\;s Pain Busters want you and your family to join us on a fun run\, walk\, bike or skate for healthy kids 5K. You can take part in PDI&rsquo\;s Get Up &amp\; Get Moving for Healthy Kids 5K\, on your own time from ?July 27th &ndash\; August 9th. Get up and get outside in your neighborhood or head to your local park or favorite trail. It doesn&#39\;t matter where\, as long as it&#39\;s outside. PDI hopes that we can come together as a virtual community and enjoy fun\, fitness\, and the common goal of uniting people in our community and encouraging overall health. TO JOIN: &bull\; Register for PDI&rsquo\;s Pain Busters Get Up and Get Moving for Healthy Kids 5K &bull\; Complete a 5K (3.1 miles) run\, walk\, bike or skate any time from July 27th &ndash\; August 9th... while observing proper social distancing of course! &bull\; Get creative on the location of your 5K. &bull\; Pick your attire (we always encourage costumes) &bull\; Share your pics on our Facebook page Prizes will be awarded for: &bull\; Most creative location (trail\, path or street\, etc.) &bull\; Most creative costume
LOCATION:Anywhere Outside
UID:e.1308.14095
SEQUENCE:3
DTSTAMP:20260420T211737Z
URL:https://business.petalumachamber.biz/events/details/pdi-pain-busters-get-up-get-moving-for-healthy-kids-5k-14095
END:VEVENT

END:VCALENDAR
