BEGIN:VCALENDAR
VERSION:2.0
PRODID:-//ChamberMaster//Event Calendar 2.0//EN
METHOD:PUBLISH
X-PUBLISHED-TTL:P3D
REFRESH-INTERVAL:P3D
CALSCALE:GREGORIAN
BEGIN:VEVENT
DTSTART:20211220T020000Z
DTEND:20211220T030000Z
X-MICROSOFT-CDO-ALLDAYEVENT:FALSE
SUMMARY:Penngrove Holiday Lights Parade
DESCRIPTION:Bundle up\, and come down to Main Street for a parade of glammed up tractor trailers\, farm vehicles\, and decorated farm tractors all covered in lights. Local merchants will serve soup\, pizza\, hot cider street food to keep you warm. Penngrove 4-H will sell hot chocolate and cider. Lighted vehicles may enter at no charge. Just register by 12/16: download entry form from www.penngrovesocialfiremen.org and take it to JavAmore Cafe in Penngrove or email mrsjjava@hotmail.com .
X-ALT-DESC;FMTTYPE=text/html:Bundle up\, and come down to Main Street for a parade of glammed up tractor trailers\, farm vehicles\, and decorated farm tractors all covered in lights. Local merchants will serve soup\, pizza\, hot cider street food to keep you warm. Penngrove 4-H will sell hot chocolate and cider. Lighted vehicles may enter at no charge. Just register by 12/16: download entry form from www.penngrovesocialfiremen.org and take it to JavAmore Cafe in Penngrove or email mrsjjava@hotmail.com .
LOCATION:Downtown Penngrove
UID:e.1308.16366
SEQUENCE:3
DTSTAMP:20260422T030632Z
URL:https://business.petalumachamber.biz/events/details/penngrove-holiday-lights-parade-16366
END:VEVENT

END:VCALENDAR
