BEGIN:VCALENDAR
VERSION:2.0
PRODID:-//ChamberMaster//Event Calendar 2.0//EN
METHOD:PUBLISH
X-PUBLISHED-TTL:P3D
REFRESH-INTERVAL:P3D
CALSCALE:GREGORIAN
BEGIN:VEVENT
DTSTART:20191216T020000Z
DTEND:20191216T030000Z
X-MICROSOFT-CDO-ALLDAYEVENT:FALSE
SUMMARY:Penngrove Holiday Parade of Lights – 4th annual
DESCRIPTION:Holiday cheer with lighted farm vehicles. See glammed up tractor trailers and farm vehicles covered in lights. Local merchants will serve soup\, pizza\, hot cider street food to keep you warm. Parade travels up Main St. to Adobe Rd. Free to enter parade. See website for entry form. [Roads close 5   8 pm. Park at Penngrove Elementary 4:30   8 pm (gates lock).]
X-ALT-DESC;FMTTYPE=text/html:Holiday cheer with lighted farm vehicles. See glammed up tractor trailers and farm vehicles covered in lights. Local merchants will serve soup\, pizza\, hot cider street food to keep you warm. Parade travels up Main St. to Adobe Rd. Free to enter parade. See website for entry form. [Roads close 5 &ndash\; 8 pm. Park at Penngrove Elementary 4:30 &ndash\; 8 pm (gates lock).]
LOCATION:From Penngrove Park\, 1180 Main St.\, to Adobe Rd.
UID:e.1308.13953
SEQUENCE:3
DTSTAMP:20260420T112551Z
URL:https://business.petalumachamber.biz/events/details/penngrove-holiday-parade-of-lights-4th-annual-13953
END:VEVENT

END:VCALENDAR
