BEGIN:VCALENDAR
VERSION:2.0
PRODID:-//ChamberMaster//Event Calendar 2.0//EN
METHOD:PUBLISH
X-PUBLISHED-TTL:P3D
REFRESH-INTERVAL:P3D
CALSCALE:GREGORIAN
BEGIN:VEVENT
DTSTART:20190929T000000Z
DTEND:20190929T050000Z
X-MICROSOFT-CDO-ALLDAYEVENT:FALSE
SUMMARY:PEP Housing presents a Masquerade Benefit
DESCRIPTION:Embrace the magic and mystery by dressing in your best peculiar elegance. Enjoy dinner\, dessert\, entertainment\, silent and live auction\, 50/50 raffle\, the presentation of the Senior Housing Hero Award and more!
X-ALT-DESC;FMTTYPE=text/html:Embrace the magic and mystery by dressing in your best peculiar elegance. Enjoy dinner\, dessert\, entertainment\, silent and live auction\, 50/50 raffle\, the presentation of the Senior Housing Hero Award and more!
LOCATION:PEP Housing's Linda Tunis Senior Apartments 600 Acacia Lane\, Santa Rosa\, CA 95409
UID:e.1308.13804
SEQUENCE:3
DTSTAMP:20260420T060750Z
URL:https://business.petalumachamber.biz/events/details/pep-housing-presents-a-masquerade-benefit-13804
END:VEVENT

END:VCALENDAR
