BEGIN:VCALENDAR
VERSION:2.0
PRODID:-//ChamberMaster//Event Calendar 2.0//EN
METHOD:PUBLISH
X-PUBLISHED-TTL:P3D
REFRESH-INTERVAL:P3D
CALSCALE:GREGORIAN
BEGIN:VEVENT
DTSTART:20190120T010000Z
DTEND:20190120T050000Z
X-MICROSOFT-CDO-ALLDAYEVENT:FALSE
SUMMARY:PETALUMA 7-11 LIONS CLUB CRAB FEED
DESCRIPTION:THE PETALUMA 7-11 LIONS CLUB IS HAVING THEIR 37 TH ANNUAL CRAB FEED JANUARY 19\,2019. EVENING SEATING 5 PM DINNER AT 6PM. LARGE RAFFLE. NO CARRY-IN ALCOHOL. DINNER INCLUDES FRESH CRACKED CRAB PASTA FRENCH BREAD AND SALAD NO HOST BAR. MONEY RAISED FROM THE EVENT SUPPORTS MANY LOCAL COMMUNITY PROJECTS. OUR BUSINESS BANNER SPONSORS INCLUDE CLOVER SONOMA \, LAGUNITIS BREWERY\, D&R TERMITE INSPECTIONS\, AND BANK OF THE WEST.
X-ALT-DESC;FMTTYPE=text/html:THE PETALUMA 7-11 LIONS CLUB IS HAVING THEIR 37 TH ANNUAL CRAB FEED JANUARY 19\,2019. EVENING SEATING 5 PM DINNER AT 6PM. LARGE RAFFLE. NO CARRY-IN ALCOHOL. DINNER INCLUDES FRESH CRACKED CRAB PASTA FRENCH BREAD AND SALAD NO HOST BAR. MONEY RAISED FROM THE EVENT SUPPORTS MANY LOCAL COMMUNITY PROJECTS. OUR BUSINESS BANNER SPONSORS INCLUDE CLOVER SONOMA \, LAGUNITIS BREWERY\, D&amp\;R TERMITE INSPECTIONS\, AND BANK OF THE WEST.
LOCATION:LOCATION PETALUMA VETERANS MEMORIAL BUILDING 1094 PETALUMA BLVD SOUTH
UID:e.1308.12811
SEQUENCE:3
DTSTAMP:20260419T161707Z
URL:https://business.petalumachamber.biz/events/details/petaluma-7-11-lions-club-crab-feed-12811
END:VEVENT

END:VCALENDAR
