BEGIN:VCALENDAR
VERSION:2.0
PRODID:-//ChamberMaster//Event Calendar 2.0//EN
METHOD:PUBLISH
X-PUBLISHED-TTL:P3D
REFRESH-INTERVAL:P3D
CALSCALE:GREGORIAN
BEGIN:VEVENT
DTSTART:20200510T150000Z
DTEND:20200510T190000Z
X-MICROSOFT-CDO-ALLDAYEVENT:FALSE
SUMMARY:Petaluma Footrace
DESCRIPTION:Mentor Me and Luma Fitness look forward to welcoming you to the 2020 Petaluma Footrace! The iconic race will once again be returning to Ellis Creek and Shollenberger Park. There will be two courses   a 3 mile and a 5 mile   from which to choose. A family-oriented celebration and expo featuring food\, beverages\, music and offerings from local businesses and sponsors will add to the post-race fun. REGISTRATION IS OPEN Early bird pricing of $35 for adults through April 9th! $40 for adults\; $20 for youth 18 and under Choose from 3-mile or 5-mile course
X-ALT-DESC;FMTTYPE=text/html:Mentor Me and Luma Fitness look forward to welcoming you to the 2020 Petaluma Footrace! The iconic race will once again be returning to Ellis Creek and Shollenberger Park. There will be two courses &ndash\; a 3 mile and a 5 mile &ndash\; from which to choose. A family-oriented celebration and expo featuring food\, beverages\, music and offerings from local businesses and sponsors will add to the post-race fun. REGISTRATION IS OPEN Early bird pricing of $35 for adults through April 9th! $40 for adults\; $20 for youth 18 and under Choose from 3-mile or 5-mile course
LOCATION:Ellis Creek / Shollenberger Park
UID:e.1308.14069
SEQUENCE:3
DTSTAMP:20260420T193351Z
URL:https://business.petalumachamber.biz/events/details/petaluma-footrace-05-10-2020-14069
END:VEVENT

END:VCALENDAR
