BEGIN:VCALENDAR
VERSION:2.0
PRODID:-//ChamberMaster//Event Calendar 2.0//EN
METHOD:PUBLISH
X-PUBLISHED-TTL:P3D
REFRESH-INTERVAL:P3D
CALSCALE:GREGORIAN
BEGIN:VEVENT
DTSTART:20190622T150000Z
DTEND:20190622T190000Z
X-MICROSOFT-CDO-ALLDAYEVENT:FALSE
SUMMARY:Petaluma Footrace
DESCRIPTION:After a three year hiatus\, the iconic Petaluma Footrace is returning to beautiful Ellis Creek and Shollenberger Park. The family-friendly race features two courses: a 3 mile and a 5 mile. Stick around for the post-race celebration featuring food\, beverages and fun from local sponsors and businesses. All proceeds benefit the youth mentoring and advocacy programs of Mentor Me.
X-ALT-DESC;FMTTYPE=text/html:After a three year hiatus\, the iconic Petaluma Footrace is returning to beautiful Ellis Creek and Shollenberger Park. The family-friendly race features two courses: a 3 mile and a 5 mile. Stick around for the post-race celebration featuring food\, beverages and fun from local sponsors and businesses. All proceeds benefit the youth mentoring and advocacy programs of Mentor Me.
LOCATION:Kaiser Permanente Parking Lot 3900 Lakeville Hwy in Petaluma
UID:e.1308.13755
SEQUENCE:3
DTSTAMP:20260420T004303Z
URL:https://business.petalumachamber.biz/events/details/petaluma-footrace-13755
END:VEVENT

END:VCALENDAR
