BEGIN:VCALENDAR
VERSION:2.0
PRODID:-//ChamberMaster//Event Calendar 2.0//EN
METHOD:PUBLISH
X-PUBLISHED-TTL:P3D
REFRESH-INTERVAL:P3D
CALSCALE:GREGORIAN
BEGIN:VEVENT
DTSTART:20190107T000000Z
DTEND:20190107T020000Z
X-MICROSOFT-CDO-ALLDAYEVENT:FALSE
SUMMARY:Petaluma Hotel Singles Party at The Shuckery
DESCRIPTION:Start off the new year with a bang at this fun party! Only $10 at the door includes a FUN Mixer Game\, that makes it EASY to meet new friends\; accompanied by light appetizers\, served at 4pm\, as long as they last. Dress to impress. Adults of all ages welcome. Sunday\, Jan 6\, 2019\, 4-6pm. LOCATION: Hotel Petaluma\, The Shuckery Restaurant\, 205 Kentucky St\, Downtown Petaluma CA 94952. From Hwy 101 take E Washington exit west. Free parking nearby. CO-SPONSORED by The Society of Single Professionals\, the world's largest non-profit singles organization\; Singles2Couples\; and by many singles meetups. MORE PARTIES at www.thepartyhotline.com.
X-ALT-DESC;FMTTYPE=text/html:Start off the new year with a bang at this fun party! Only $10 at the door includes a FUN Mixer Game\, that makes it EASY to meet new friends\; accompanied by light appetizers\, served at 4pm\, as long as they last. Dress to impress. Adults of all ages welcome. Sunday\, Jan 6\, 2019\, 4-6pm. LOCATION: Hotel Petaluma\, The Shuckery Restaurant\, 205 Kentucky St\, Downtown Petaluma CA 94952. From Hwy 101 take E Washington exit west. Free parking nearby. CO-SPONSORED by The Society of Single Professionals\, the world&rsquo\;s largest non-profit singles organization\; Singles2Couples\; and by many singles meetups. MORE PARTIES at www.thepartyhotline.com.
LOCATION:The Shuckery at The Petaluma Hotel
UID:e.1308.12886
SEQUENCE:3
DTSTAMP:20260419T162347Z
URL:https://business.petalumachamber.biz/events/details/petaluma-hotel-singles-party-at-the-shuckery-12886
END:VEVENT

END:VCALENDAR
