BEGIN:VCALENDAR
VERSION:2.0
PRODID:-//ChamberMaster//Event Calendar 2.0//EN
METHOD:PUBLISH
X-PUBLISHED-TTL:P3D
REFRESH-INTERVAL:P3D
CALSCALE:GREGORIAN
BEGIN:VEVENT
DTSTART:20190913T020000Z
DTEND:20190922T033000Z
X-MICROSOFT-CDO-ALLDAYEVENT:FALSE
SUMMARY:Petaluma Readers Theatre :: Under Milk Wood by Dylan Thomas
DESCRIPTION:Petaluma Readers Theatre brings you Dylan Thomas' "play for voices." A moving and hilarious account of a spring day in a small Welsh town\, the play begins with dreams and ghosts before dawn and closes "as the rain of dusk brings on the bawdy night." Featuring the stellar voices of Judy Abbott\, Marlene Augustine\, Norman Hall\, Shirley Hall\, Joan Hawley\, Terry Kolkey\, Jennifer March\, Jim Peterson\, Brian Shears and Kathleen York. Directed by Linda Loveland Reid. Presented by Petaluma Readers Theatre
X-ALT-DESC;FMTTYPE=text/html:Petaluma Readers Theatre brings you Dylan Thomas&#39\; &quot\;play for voices.&quot\; A moving and hilarious account of a spring day in a small Welsh town\, the play begins with dreams and ghosts before dawn and closes &quot\;as the rain of dusk brings on the bawdy night.&quot\; Featuring the stellar voices of Judy Abbott\, Marlene Augustine\, Norman Hall\, Shirley Hall\, Joan Hawley\, Terry Kolkey\, Jennifer March\, Jim Peterson\, Brian Shears and Kathleen York. Directed by Linda Loveland Reid. Presented by Petaluma Readers Theatre
LOCATION:Petaluma Historical Museum\, 20 4th Street\, Petaluma\, CA 94952
UID:e.1308.13803
SEQUENCE:3
DTSTAMP:20260420T060847Z
URL:https://business.petalumachamber.biz/events/details/petaluma-readers-theatre-under-milk-wood-by-dylan-thomas-13803
END:VEVENT

END:VCALENDAR
