BEGIN:VCALENDAR
VERSION:2.0
PRODID:-//ChamberMaster//Event Calendar 2.0//EN
METHOD:PUBLISH
X-PUBLISHED-TTL:P3D
REFRESH-INTERVAL:P3D
CALSCALE:GREGORIAN
BEGIN:VEVENT
DTSTART:20190928T200000Z
DTEND:20190929T000000Z
X-MICROSOFT-CDO-ALLDAYEVENT:FALSE
SUMMARY:Petaluma River Craft Beer Festival
DESCRIPTION:23 LOCAL BREWERIES\, 1 HISTORICAL RIVERFRONT\n\nJoin us! On September 28\, 2019 from 1 PM to 5 PM at Historic Downtown Petaluma - at the River to sip our local brews and taste our mighty food bites. Delight in a walk on the promenade by our famous river and enjoy the craft beer specialties of the area.
X-ALT-DESC;FMTTYPE=text/html:<span class="style2">23 LOCAL BREWERIES\, 1 HISTORICAL RIVERFRONT</span><br />\nJoin us! On September 28\, 2019 from 1 PM to 5 PM at Historic Downtown Petaluma - at the River to sip our local brews and taste our mighty food bites. Delight in a walk on the promenade by our famous river and enjoy the craft beer specialties of the area.
LOCATION:
UID:e.1308.13751
SEQUENCE:3
DTSTAMP:20260420T060918Z
URL:https://business.petalumachamber.biz/events/details/petaluma-river-craft-beer-festival-13751
END:VEVENT

END:VCALENDAR
