BEGIN:VCALENDAR
VERSION:2.0
PRODID:-//ChamberMaster//Event Calendar 2.0//EN
METHOD:PUBLISH
X-PUBLISHED-TTL:P3D
REFRESH-INTERVAL:P3D
CALSCALE:GREGORIAN
BEGIN:VEVENT
DTSTART:20190504T160000Z
DTEND:20190504T200000Z
X-MICROSOFT-CDO-ALLDAYEVENT:FALSE
SUMMARY:Petaluma Spring River Clean up
DESCRIPTION:After a winter of heavy rains we need your help to remove trash and debris from the Petaluma River. Join us for our annual Spring Petaluma River Cleanup and be a part of the solution to river pollution. We'll have a BBQ\, live music\, a raffle and educational booths for volunteers following the cleanup effort. RSVP today!
X-ALT-DESC;FMTTYPE=text/html:After a winter of heavy rains we need your help to remove trash and debris from the Petaluma River. Join us for our annual Spring Petaluma River Cleanup and be a part of the solution to river pollution. We&rsquo\;ll have a BBQ\, live music\, a raffle and educational booths for volunteers following the cleanup effort. RSVP today!
LOCATION:Steamer Landing Park 6 Copeland St Petaluma\, CA 94952
UID:e.1308.13481
SEQUENCE:3
DTSTAMP:20260419T225645Z
URL:https://business.petalumachamber.biz/events/details/petaluma-spring-river-clean-up-13481
END:VEVENT

END:VCALENDAR
