BEGIN:VCALENDAR
VERSION:2.0
PRODID:-//ChamberMaster//Event Calendar 2.0//EN
METHOD:PUBLISH
X-PUBLISHED-TTL:P3D
REFRESH-INTERVAL:P3D
CALSCALE:GREGORIAN
BEGIN:VEVENT
DTSTART:20220421T200000Z
DTEND:20220421T213000Z
X-MICROSOFT-CDO-ALLDAYEVENT:FALSE
SUMMARY:Petaluma Wetlands and Watershed
DESCRIPTION:Petaluma Wetlands and Watershed\n\nThursday\, April 21\, 1:00   2:30 pm on Zoom.\n\nWe are facing many issues related to water. The Petaluma marsh is at risk due to sea level rise. Flooding occurs frequently. Climate change is stressing water supply to plants\, animals\, and people. Several maps will describe the issues around water and our wetlands\, presenting current efforts\, and proposing a strategic plan for the watershed using mostly nature-based solutions.  \n\n \n\nPresenter: John Shribbs\, PhD is a retired teacher and scientist.  He holds numerous degrees in Horticulture\, Weed Science\, Statistics\, Pest Management\, Biology\, and Chemistry. \n\n \n\nPlease register for this presentation online by clicking here\, email us at info@VillageNetworkofPetaluma.org\, or call the Village office at 707-776-6055. The event is free\, donations appreciated.\n\n \n\nAbout Village Network of Petaluma\n\nThe Village Network is a non-profit grassroots organization empowering Petaluma-Penngrove area residents age 50+ to live independent\, vibrant\, and connected lives in the places we call home. Aging Better Together.\n\nFor more information:\n\nPhone: 707 776-6055\n\nWebsite: http://www.VillageNetworkofPetaluma.org\n\nEmail: info@villagenetworkofpetaluma.org
X-ALT-DESC;FMTTYPE=text/html:<strong><span style="color:#004800"><span style="font-family:verdana\,sans-serif"><span style="font-size:13.0pt">Petaluma Wetlands and Watershed</span></span></span></strong><br />\n<strong><span style="color:#101010"><span style="font-family:verdana\,sans-serif"><span style="font-size:13.0pt">Thursday\, April 21\, 1:00 &ndash\; 2:30 pm on Zoom.</span></span></span></strong><br />\n<span style="color:#101010"><span style="font-family:verdana\,sans-serif"><span style="font-size:13.0pt">We are facing many issues related to water. The Petaluma marsh is at risk due to sea level rise. Flooding occurs frequently. Climate change is stressing water supply to plants\, animals\, and people. Several maps will describe the issues around water and our wetlands\, presenting current efforts\, and proposing a strategic plan for the watershed using mostly nature-based solutions.&nbsp\; </span></span></span><br />\n&nbsp\;<br />\n<span style="color:#101010"><span style="font-family:verdana\,sans-serif"><span style="font-size:13.0pt">Presenter: <em>John Shribbs\, PhD is a retired teacher and scientist. &nbsp\;He holds numerous degrees in Horticulture\, Weed Science\, Statistics\, Pest Management\, Biology\, and Chemistry. </em></span></span></span><br />\n&nbsp\;<br />\n<span style="font-family:verdana\,sans-serif"><span style="font-size:13.0pt">Please register for this presentation online by clicking </span></span><a href="https://petaluma.helpfulvillage.com/events"><span style="font-family:verdana\,sans-serif"><span style="font-size:13.0pt">here</span></span></a><span style="font-family:verdana\,sans-serif"><span style="font-size:13.0pt">\, email us at </span></span><a href="mailto:info@VillageNetworkofPetaluma.org"><span style="font-family:verdana\,sans-serif"><span style="font-size:13.0pt">info@VillageNetworkofPetaluma.org</span></span></a><span style="font-family:verdana\,sans-serif"><span style="font-size:13.0pt">\, or call the Village office at 707-776-6055. The event is free\, donations appreciated.</span></span><br />\n&nbsp\;<br />\n<strong><span style="font-family:verdana\,sans-serif"><span style="font-size:13.0pt">About Village Network of Petaluma</span></span></strong><br />\n<span style="font-family:verdana\,sans-serif"><span style="font-size:13.0pt">The Village Network is a non-profit grassroots organization empowering Petaluma-Penngrove area residents age 50+ to live independent\, vibrant\, and connected lives in the places we call home. Aging Better Together.</span></span><br />\n<span style="font-family:verdana\,sans-serif"><span style="font-size:13.0pt">For more information:</span></span><br />\n<span style="font-family:verdana\,sans-serif"><span style="font-size:13.0pt">Phone: 707 776-6055</span></span><br />\n<span style="font-family:verdana\,sans-serif"><span style="font-size:13.0pt">Website: </span></span><a href="http://www.VillageNetworkofPetaluma.org"><span style="font-family:verdana\,sans-serif"><span style="font-size:13.0pt">http://www.VillageNetworkofPetaluma.org</span></span></a><br />\n<span style="font-family:verdana\,sans-serif"><span style="font-size:13.0pt">Email: </span></span><a href="mailto:info@villagenetworkofpetaluma.org"><span style="font-family:verdana\,sans-serif"><span style="font-size:13.0pt">info@villagenetworkofpetaluma.org</span></span></a><br />\n&nbsp\;
LOCATION:
UID:e.1308.16540
SEQUENCE:3
DTSTAMP:20260422T095837Z
URL:https://business.petalumachamber.biz/events/details/petaluma-wetlands-and-watershed-16540
END:VEVENT

END:VCALENDAR
