BEGIN:VCALENDAR
VERSION:2.0
PRODID:-//ChamberMaster//Event Calendar 2.0//EN
METHOD:PUBLISH
X-PUBLISHED-TTL:P3D
REFRESH-INTERVAL:P3D
CALSCALE:GREGORIAN
BEGIN:VEVENT
DTSTART:20181007T000000Z
DTEND:20181007T030000Z
X-MICROSOFT-CDO-ALLDAYEVENT:FALSE
SUMMARY:“PHL&M\, A Story of Civic Pride & Progress” Exhibit Opening Reception and a celebration of historian Lucy Kortum and her preservation of California Carnegie Libraries
DESCRIPTION:"PHL&M\, A Story of Civic Pride & Progress" Exhibit Opening Reception and a celebration of historian Lucy Kortum and her preservation of California Carnegie Libraries Petaluma Museum Association announces the opening reception for their exhibit\, "The Petaluma Historical Library & Museum\, A Story of Civic Progress & Pride\," scheduled for Saturday\, October 6\, 2018\, 5 to 8 pm. The opening and the exhibit are dedicated to Lucy Kortum and to her role in preserving California's Carnegie Libraries. The opening reception will be a celebration honoring Lucy and an opportunity for the community to express its appreciation for her contributions. At 7 there will be a champagne toast and commendations will be presented.
X-ALT-DESC;FMTTYPE=text/html:&ldquo\;PHL&amp\;M\, A Story of Civic Pride &amp\; Progress&rdquo\; Exhibit Opening Reception and a celebration of historian Lucy Kortum and her preservation of California Carnegie Libraries Petaluma Museum Association announces the opening reception for their exhibit\, &ldquo\;The Petaluma Historical Library &amp\; Museum\, A Story of Civic Progress &amp\; Pride\,&rdquo\; scheduled for Saturday\, October 6\, 2018\, 5 to 8 pm. The opening and the exhibit are dedicated to Lucy Kortum and to her role in preserving California&rsquo\;s Carnegie Libraries. The opening reception will be a celebration honoring Lucy and an opportunity for the community to express its appreciation for her contributions. At 7 there will be a champagne toast and commendations will be presented.
LOCATION:The Petaluma Historical Library & Museum at 20 Fourth Street in downtown Petaluma
UID:e.1308.12791
SEQUENCE:3
DTSTAMP:20260419T114642Z
URL:https://business.petalumachamber.biz/events/details/phl-m-a-story-of-civic-pride-progress-exhibit-opening-reception-and-a-celebration-of-historian-lucy-kortum-and-her-preservation-of-california-carnegie-libraries-12791
END:VEVENT

END:VCALENDAR
