BEGIN:VCALENDAR
VERSION:2.0
PRODID:-//ChamberMaster//Event Calendar 2.0//EN
METHOD:PUBLISH
X-PUBLISHED-TTL:P3D
REFRESH-INTERVAL:P3D
CALSCALE:GREGORIAN
BEGIN:VEVENT
DTSTART:20190611T233000Z
DTEND:20190612T003000Z
X-MICROSOFT-CDO-ALLDAYEVENT:FALSE
SUMMARY:Planning for Long-term Care Workshop
DESCRIPTION:Since 1998\, Art has helped thousands of families protect their dignity\, assets and independence with long term care insurance planning.  He has done so as both an agent and as a consultant to over 100 financial advisors in the SF Bay Area.\n\n \n\nFind out how to create a plan to protect yourself and your family\, and use your business income to do so.  Art's upcoming workshops will be held at the Petaluma Area Chamber of Commerce office.
X-ALT-DESC;FMTTYPE=text/html:<div style="border-top:solid #4472C4 3.0pt\;border-left:none\;border-bottom:solid #4472C4 3.0pt\;border-right:none\;padding:8.0pt 0in 8.0pt 0in\;margin-left:0in\;margin-right:26.4pt\;"><strong><span style="font-size:20.0pt\;">Since 1998\, Art has helped thousands of families protect their dignity\, assets and independence with long term care insurance planning.&nbsp\; He has done so as both an agent and as a consultant to over 100 financial advisors in the SF Bay Area.</span></strong><br />\n&nbsp\;<br />\n<strong><span style="font-size:20.0pt\;">Find out how to create a plan to protect yourself and your family\, and use your business income to do so.&nbsp\; Art&rsquo\;s upcoming workshops will be held at the Petaluma Area Chamber of Commerce office.</span></strong></div>\n
LOCATION:PACC Office 6 Petaluma Blvd N Suite B 11
UID:e.1308.13613
SEQUENCE:3
DTSTAMP:20260420T004226Z
URL:https://business.petalumachamber.biz/events/details/planning-for-long-term-care-workshop-13613
END:VEVENT

END:VCALENDAR
