BEGIN:VCALENDAR
VERSION:2.0
PRODID:-//ChamberMaster//Event Calendar 2.0//EN
METHOD:PUBLISH
X-PUBLISHED-TTL:P3D
REFRESH-INTERVAL:P3D
CALSCALE:GREGORIAN
BEGIN:VEVENT
DTSTART:20211022T010000Z
DTEND:20211022T040000Z
X-MICROSOFT-CDO-ALLDAYEVENT:FALSE
SUMMARY:PWC 125th Anniversary Gala Event!
DESCRIPTION:Come join the Petaluma Woman's Club in celebrating their 125th anniversary! Woman's clubs were prevalent in American towns and cities in the late 19th century to promote the educational development and civic engagement of women. This gala celebration will include music by renowned pianist Linda Rice\, historical re-enactment by the Petalumans of Yesteryear\, a catered dinner\, and proclamations from the US Congress and Assembly\, Sonoma County Board of Supervisors\, and the Mayor of Petaluma.
X-ALT-DESC;FMTTYPE=text/html:Come join the Petaluma Woman&#39\;s Club in celebrating their 125th anniversary! Woman&#39\;s clubs were prevalent in American towns and cities in the late 19th century to promote the educational development and civic engagement of women. This gala celebration will include music by renowned pianist Linda Rice\, historical re-enactment by the Petalumans of Yesteryear\, a catered dinner\, and proclamations from the US Congress and Assembly\, Sonoma County Board of Supervisors\, and the Mayor of Petaluma.
LOCATION:Petaluma Woman's Club 518 B Street Petaluma\, CA 94952
UID:e.1308.16356
SEQUENCE:3
DTSTAMP:20260421T235937Z
URL:https://business.petalumachamber.biz/events/details/pwc-125th-anniversary-gala-event-16356
END:VEVENT

END:VCALENDAR
