BEGIN:VCALENDAR
VERSION:2.0
PRODID:-//ChamberMaster//Event Calendar 2.0//EN
METHOD:PUBLISH
X-PUBLISHED-TTL:P3D
REFRESH-INTERVAL:P3D
CALSCALE:GREGORIAN
BEGIN:VEVENT
DTSTART:20211013T003000Z
DTEND:20211013T013000Z
X-MICROSOFT-CDO-ALLDAYEVENT:FALSE
SUMMARY:PWC Speakers Series: Elizabeth Porzig\, Ph.D. \, Ecologist at Point Blue
DESCRIPTION:Libby Porzig\, PhD\, is an ecologist and the director of the Working Lands Group at Point Blue. Libby oversees Point Blue's efforts on agricultural landscapes\, working with farmers and ranchers to demonstrate and implement strategies to maintain and enhance ecosystem services of agricultural lands. The presentation will explore the ecosystem services provided by California's agricultural landscapes as well as some of the ways in which farmers and ranchers are partnering with scientists to discover and implement land stewardship practices that benefit biodiversity\, carbon and nutrient cycling\, water resources\, and food production.
X-ALT-DESC;FMTTYPE=text/html:Libby Porzig\, PhD\, is an ecologist and the director of the Working Lands Group at Point Blue. Libby oversees Point Blue&rsquo\;s efforts on agricultural landscapes\, working with farmers and ranchers to demonstrate and implement strategies to maintain and enhance ecosystem services of agricultural lands. The presentation will explore the ecosystem services provided by California&rsquo\;s agricultural landscapes as well as some of the ways in which farmers and ranchers are partnering with scientists to discover and implement land stewardship practices that benefit biodiversity\, carbon and nutrient cycling\, water resources\, and food production.
LOCATION:Petaluma Woman's Club 518 B Street\, Petaluma CA 94952
UID:e.1308.16354
SEQUENCE:3
DTSTAMP:20260422T000242Z
URL:https://business.petalumachamber.biz/events/details/pwc-speakers-series-elizabeth-porzig-ph-d-ecologist-at-point-blue-16354
END:VEVENT

END:VCALENDAR
