BEGIN:VCALENDAR
VERSION:2.0
PRODID:-//ChamberMaster//Event Calendar 2.0//EN
METHOD:PUBLISH
X-PUBLISHED-TTL:P3D
REFRESH-INTERVAL:P3D
CALSCALE:GREGORIAN
BEGIN:VEVENT
DTSTART:20190225T000000Z
DTEND:20190225T030000Z
X-MICROSOFT-CDO-ALLDAYEVENT:FALSE
SUMMARY:Red Carpet Evening
DESCRIPTION:The Alexander Valley Film Society brings Hollywood glamour to Sonoma County with the Fifth Annual Red Carpet Evening\, a fundraising gala and celebration of the 91st ACADEMY AWARDS . Guests will gather at SODA ROCK WINERY for an evening of film\, fashion\, food\, and fun\, featuring a red carpet entrance\, opulent silent auction lounge\, and the OSCARS  on the big screen during an elegant seated dinner. Proceeds from the event will support the Alexander Valley Film Society's educational and cultural programs.
X-ALT-DESC;FMTTYPE=text/html:The Alexander Valley Film Society brings Hollywood glamour to Sonoma County with the Fifth Annual Red Carpet Evening\, a fundraising gala and celebration of the 91st ACADEMY AWARDS&reg\;. Guests will gather at SODA ROCK WINERY for an evening of film\, fashion\, food\, and fun\, featuring a red carpet entrance\, opulent silent auction lounge\, and the OSCARS&reg\; on the big screen during an elegant seated dinner. Proceeds from the event will support the Alexander Valley Film Society&rsquo\;s educational and cultural programs.
LOCATION:Soda Rock Winery
UID:e.1308.12885
SEQUENCE:3
DTSTAMP:20260419T174954Z
URL:https://business.petalumachamber.biz/events/details/red-carpet-evening-12885
END:VEVENT

END:VCALENDAR
