BEGIN:VCALENDAR
VERSION:2.0
PRODID:-//ChamberMaster//Event Calendar 2.0//EN
METHOD:PUBLISH
X-PUBLISHED-TTL:P3D
REFRESH-INTERVAL:P3D
CALSCALE:GREGORIAN
BEGIN:VEVENT
DTSTART:20190328T230000Z
DTEND:20190329T010000Z
X-MICROSOFT-CDO-ALLDAYEVENT:FALSE
SUMMARY:Rise of the Indie Professional: How to navigate the changes in our economy and kick start your own business in the North Bay
DESCRIPTION:A new event series is launching at Keller Street CoWork\, Sonoma County's largest coworking space in Petaluma. On Thursday\, February 21 and Thursday\, March 28\, Rise of the Indie Professional will zero in on the current economic climate. With 30% of the US workforce taking on freelance work\, this number is set to increase and could be as high as 50% by 2030.\n \n\nMany in today's job force want the freedom of working on their own terms. Keller Street CoWork's two-event series will present the tools to get started and touch on hot button topics such as how and where to find freelancers faster and better\, decide whether independent work or freelancing is the right fit\, and how to make the leap successfully. \n \n\nDanielle Stroble\, Director of Keller Street CoWork\, will guide the discussion\, and share how the coworking business model supports the growing independent and gig worker economy in the North Bay. Carol Schmitt from Acclimate Us and NorthBay 2030 will weigh in her extensive experience and research in the field\, recognizing the need to shift in how employers\, workers\, educators and policymakers support this line of work. To round out the panel\, Ethan Brown from the Sonoma Economic Development Board will discuss how the organization supports the growth of the indie worker economy in Sonoma County. \n \n\nFollowing the event\, stay to enjoy a Networking Mixer at 5pm with the rest of the Keller Street CoWork members\, mingle and meet with like-minded business owners in the area. \n \n\nRSVP here: http://bit.ly/socoindie. This event is free\, but book early as seating capacity is limited.
X-ALT-DESC;FMTTYPE=text/html:<p><span style="color:rgb(0\, 0\, 0)\; font-family:arial\; font-size:11pt">A new event series is launching at </span><a href="https://www.kellerstreetcowork.com/" style="text-decoration-line: none\;"><span style="color:rgb(17\, 85\, 204)\; font-family:arial\; font-size:11pt">Keller Street CoWork</span></a><span style="color:rgb(0\, 0\, 0)\; font-family:arial\; font-size:11pt">\, Sonoma County&rsquo\;s largest coworking space in Petaluma. On Thursday\, February 21 and Thursday\, March 28\, </span><strong>Rise of the Indie Professional </strong><span style="color:rgb(0\, 0\, 0)\; font-family:arial\; font-size:11pt">will zero in on the current economic climate. With 30% of the US workforce taking on freelance work\, this number is set to increase and could be as high as 50% by 2030.</span></p>\n&nbsp\;\n\n<p><span style="color:rgb(0\, 0\, 0)\; font-family:arial\; font-size:11pt">Many in today&rsquo\;s job force want the freedom of working on their own terms. Keller Street CoWork&rsquo\;s two-event series will present the tools to get started and touch on hot button topics such as how and where to find freelancers faster and better\, decide whether independent work or freelancing is the right fit\, and how to make the leap successfully. </span></p>\n&nbsp\;\n\n<p><strong>Danielle Stroble</strong><span style="color:rgb(0\, 0\, 0)\; font-family:arial\; font-size:11pt">\, Director of Keller Street CoWork\, will guide the discussion\, and share how the coworking business model supports the growing independent and gig worker economy in the North Bay. </span><strong>Carol Schmitt</strong><span style="color:rgb(0\, 0\, 0)\; font-family:arial\; font-size:11pt"> from Acclimate Us and NorthBay 2030 will weigh in her extensive experience and research in the field\, recognizing the need to shift in how employers\, workers\, educators and policymakers support this line of work. To round out the panel\, </span><strong>Ethan Brown</strong><span style="color:rgb(0\, 0\, 0)\; font-family:arial\; font-size:11pt"> from the </span><a href="http://sonomaedb.org/" style="text-decoration-line: none\;"><span style="color:rgb(17\, 85\, 204)\; font-family:arial\; font-size:11pt">Sonoma Economic Development Board</span></a><span style="color:rgb(0\, 0\, 0)\; font-family:arial\; font-size:11pt"> will discuss how the organization supports the growth of the indie worker economy in Sonoma County. </span></p>\n&nbsp\;\n\n<p><span style="background-color:transparent\; color:rgb(0\, 0\, 0)\; font-family:arial\; font-size:11pt">Following the event\, stay to enjoy a Networking Mixer at 5pm with the rest of the Keller Street CoWork members\, mingle and meet with like-minded business owners in the area. </span></p>\n&nbsp\;\n\n<p><span style="background-color:transparent\; color:rgb(0\, 0\, 0)\; font-family:arial\; font-size:11pt">RSVP here: http://bit.ly/socoindie. This event is free\, but book early as seating capacity is limited.</span></p>\n
LOCATION:Keller Street Cowork 140 Keller Street Petaluma\, CA 94952
UID:e.1308.12948
SEQUENCE:3
DTSTAMP:20260419T194507Z
URL:https://business.petalumachamber.biz/events/details/rise-of-the-indie-professional-how-to-navigate-the-changes-in-our-economy-and-kick-start-your-own-business-in-the-north-bay-03-28-2019-12948
END:VEVENT

END:VCALENDAR
