BEGIN:VCALENDAR
VERSION:2.0
PRODID:-//ChamberMaster//Event Calendar 2.0//EN
METHOD:PUBLISH
X-PUBLISHED-TTL:P3D
REFRESH-INTERVAL:P3D
CALSCALE:GREGORIAN
BEGIN:VEVENT
DTSTART:20190720T180000Z
DTEND:20190721T030000Z
X-MICROSOFT-CDO-ALLDAYEVENT:FALSE
SUMMARY:Rivertown Revival
DESCRIPTION:Come down to the River to Play! The 10th anniversary of Rivertown Revival takes place on Saturday\, July 20\, 2019 from 11:00am   8:00pm at The David Yearsley River Heritage Center on the McNear Peninsula. Advanced tickets are on sale now at RivertownRevival.com. Come celebrate the Greatest Slough on Earth and help us raise funds for Friends of the Petaluma River! Music line up and more info about the event at Rivertown Revival.com.
X-ALT-DESC;FMTTYPE=text/html:Come down to the River to Play! The 10th anniversary of Rivertown Revival takes place on Saturday\, July 20\, 2019 from 11:00am &ndash\; 8:00pm at The David Yearsley River Heritage Center on the McNear Peninsula. Advanced tickets are on sale now at RivertownRevival.com. Come celebrate the Greatest Slough on Earth and help us raise funds for Friends of the Petaluma River! Music line up and more info about the event at Rivertown Revival.com.
LOCATION:Steamer Landing Park 6 Copeland St Petaluma Ca 94952
UID:e.1308.13760
SEQUENCE:3
DTSTAMP:20260420T023501Z
URL:https://business.petalumachamber.biz/events/details/rivertown-revival-13760
END:VEVENT

END:VCALENDAR
