BEGIN:VCALENDAR
VERSION:2.0
PRODID:-//ChamberMaster//Event Calendar 2.0//EN
METHOD:PUBLISH
X-PUBLISHED-TTL:P3D
REFRESH-INTERVAL:P3D
CALSCALE:GREGORIAN
BEGIN:VEVENT
DTSTART:20200719T010000Z
DTEND:20200719T040000Z
X-MICROSOFT-CDO-ALLDAYEVENT:FALSE
SUMMARY:Rivertown Revival - Living Room Live
DESCRIPTION:Rivertown Revival and Friends of the Petaluma River present... Living Room Live! Petaluma's annual Rivertown Revival has brought joy and laughter to the North Bay for the past 10 years\, but this homegrown festival has always been about much more than a single sunny day in July. The spirit of Rivertown is an ongoing effort from within the community to celebrate life\, support the arts\, and raise awareness and funds for environmental protection and education. With COVID 19 making public assembly impossible\, the Rivertown crew has decided that if we cannot come down to the River to play\, then they will bring festival experience straight to us! "Living Room Live" is an entertaining and inspiring live-streamed shows\, accessible on Rivertown's Facebook and YouTube pages. There will be engaging pieces created for children and families\, as well as intimate musical performances by our favorite regional singers and bands. The show is hosted by Rivertown's music director and resident showman\, Josh Windmiller.
X-ALT-DESC;FMTTYPE=text/html:Rivertown Revival and Friends of the Petaluma River present... Living Room Live! Petaluma&#39\;s annual Rivertown Revival has brought joy and laughter to the North Bay for the past 10 years\, but this homegrown festival has always been about much more than a single sunny day in July. The spirit of Rivertown is an ongoing effort from within the community to celebrate life\, support the arts\, and raise awareness and funds for environmental protection and education. With COVID 19 making public assembly impossible\, the Rivertown crew has decided that if we cannot come down to the River to play\, then they will bring festival experience straight to us! &quot\;Living Room Live&quot\; is an entertaining and inspiring live-streamed shows\, accessible on Rivertown&#39\;s Facebook and YouTube pages. There will be engaging pieces created for children and families\, as well as intimate musical performances by our favorite regional singers and bands. The show is hosted by Rivertown&#39\;s music director and resident showman\, Josh Windmiller.
LOCATION:Virtual
UID:e.1308.14097
SEQUENCE:3
DTSTAMP:20260420T225356Z
URL:https://business.petalumachamber.biz/events/details/rivertown-revival-living-room-live-07-18-2020-14097
END:VEVENT

END:VCALENDAR
