BEGIN:VCALENDAR
VERSION:2.0
PRODID:-//ChamberMaster//Event Calendar 2.0//EN
METHOD:PUBLISH
X-PUBLISHED-TTL:P3D
REFRESH-INTERVAL:P3D
CALSCALE:GREGORIAN
BEGIN:VEVENT
DTSTART:20200524T020000Z
DTEND:20200614T033000Z
X-MICROSOFT-CDO-ALLDAYEVENT:FALSE
SUMMARY:Rivertown Revival - Living Room Live
DESCRIPTION:Rivertown Revival and Friends of the Petaluma River present... Living Room Live! Petaluma's annual Rivertown Revival has brought joy and laughter to the North Bay for the past 10 years\, but this homegrown festival has always been about much more than a single sunny day in July. The spirit of Rivertown is an ongoing effort from within the community to celebrate life\, support the arts\, and raise awareness and funds for environmental protection and education. With COVID 19 making public assembly impossible\, the Rivertown crew has decided that if we cannot come down to the River to play\, then they will bring festival experience straight to us! "Living Room Live" is a four-week series of entertaining and inspiring live-streamed shows\, accessible on Rivertown's Facebook and YouTube pages. Every show will bring that special festival spark into our living rooms. There will be engaging pieces created for children and families\, as well as intimate musical performances by our favorite regional singers and bands. All shows are hosted by Rivertown's music director and resident showman\, Josh Windmiller. Our debut show will be from 7:00 to 8:30 on May 23rd\, and will feature performances by rock n roll superhero John Courage\, singer-songwriter Sebastian St. James (from Highway Poets)\, and indie-folk performer Ismay.
X-ALT-DESC;FMTTYPE=text/html:Rivertown Revival and Friends of the Petaluma River present... Living Room Live! Petaluma&#39\;s annual Rivertown Revival has brought joy and laughter to the North Bay for the past 10 years\, but this homegrown festival has always been about much more than a single sunny day in July. The spirit of Rivertown is an ongoing effort from within the community to celebrate life\, support the arts\, and raise awareness and funds for environmental protection and education. With COVID 19 making public assembly impossible\, the Rivertown crew has decided that if we cannot come down to the River to play\, then they will bring festival experience straight to us! &quot\;Living Room Live&quot\; is a four-week series of entertaining and inspiring live-streamed shows\, accessible on Rivertown&#39\;s Facebook and YouTube pages. Every show will bring that special festival spark into our living rooms. There will be engaging pieces created for children and families\, as well as intimate musical performances by our favorite regional singers and bands. All shows are hosted by Rivertown&#39\;s music director and resident showman\, Josh Windmiller. Our debut show will be from 7:00 to 8:30 on May 23rd\, and will feature performances by rock n roll superhero John Courage\, singer-songwriter Sebastian St. James (from Highway Poets)\, and indie-folk performer Ismay.
LOCATION:Online at these webs links: https://www.youtube.com/channel/UCPwdJhMvprPe-9f8R0gQMIA https://www.facebook.com/events/244283980141229/
UID:e.1308.14077
SEQUENCE:3
DTSTAMP:20260420T193504Z
URL:https://business.petalumachamber.biz/events/details/rivertown-revival-living-room-live-14077
END:VEVENT

END:VCALENDAR
