BEGIN:VCALENDAR
VERSION:2.0
PRODID:-//ChamberMaster//Event Calendar 2.0//EN
METHOD:PUBLISH
X-PUBLISHED-TTL:P3D
REFRESH-INTERVAL:P3D
CALSCALE:GREGORIAN
BEGIN:VEVENT
DTSTART:20220210T210000Z
DTEND:20220210T223000Z
X-MICROSOFT-CDO-ALLDAYEVENT:FALSE
SUMMARY:Rumi Poetry Reflections
DESCRIPTION:This interactive workshop with Rumi's poetry\, a 13th Century Persian poet\, will afford a safe entry point to ruminate and reflect on his messages. We slow down and seek inspiration and a roadmap to a more joyful and fulfilled self. Expect soulful discussions and conversations on how we show up in our lives and in our relationships.\n\n  \n\nPresenter Shadi Shamsavari has a rich background in transformational coaching and consulting. Her personal mission is to be a positive inspiration and champion for people who wish to travel the courageous journey of self-discovery\, empowerment and transformation to reach their highest potential and to enjoy more meaningful and fulfilling lives. \n\n \n\nThe Village Network is a non-profit grassroots organization empowering Petaluma area residents age 50+ to continue living independent\, vibrant and connected lives in the places we call home. For more information visit our website at http://www.VillageNetworkofPetaluma.org\n\n \n\nPlease register for this presentation online by clicking here\, email us at info@VillageNetworkofPetaluma.org\, or call the Village office at 707-776-6055. This event is free\, donations appreciated.
X-ALT-DESC;FMTTYPE=text/html:<span style="font-family:arial\,sans-serif"><span style="font-size:16.0pt">This interactive workshop with Rumi&#39\;s poetry\, a 13<sup>th</sup> Century Persian poet\, will afford a safe entry point to ruminate and reflect on his messages. We slow down and seek inspiration and a roadmap to a more joyful and fulfilled self. Expect soulful discussions and conversations on how we show up in our lives and in our relationships.</span></span><br />\n&nbsp\;&nbsp\;<br />\n<em><span style="font-family:arial\,sans-serif"><span style="font-size:16.0pt">Presenter Shadi Shamsavari has a rich background in transformational coaching and consulting. Her personal mission is to be a positive inspiration and champion for people who wish to travel the courageous journey of self-discovery\, empowerment and transformation to reach their highest potential and to enjoy more meaningful and fulfilling lives.&nbsp\;</span></span></em><br />\n&nbsp\;<br />\n<span style="font-family:arial\,sans-serif"><span style="font-size:16.0pt">The Village Network is a non-profit grassroots organization empowering Petaluma area residents age 50+ to continue living independent\, vibrant and connected lives in the places we call home. For more information visit our website at <a href="http://www.VillageNetworkofPetaluma.org">http://www.VillageNetworkofPetaluma.org</a></span></span><br />\n&nbsp\;<br />\n<span style="font-family:arial\,sans-serif"><span style="font-size:16.0pt">Please register for this presentation online by clicking <a href="https://petaluma.helpfulvillage.com/events/1476">here</a>\, email us at </span></span><span style="font-family:arial\,sans-serif"><span style="font-size:16.0pt"><a href="mailto:info@VillageNetworkofPetaluma.org"><span style="color:blue">info@VillageNetworkofPetaluma.org</span></a></span></span><span style="font-family:arial\,sans-serif"><span style="font-size:16.0pt">\, or call the Village office at 707-776-6055. This event is free\, donations appreciated.</span></span><br />\n&nbsp\;
LOCATION:Online Zoom Event
UID:e.1308.16377
SEQUENCE:3
DTSTAMP:20260422T064827Z
URL:https://business.petalumachamber.biz/events/details/rumi-poetry-reflections-16377
END:VEVENT

END:VCALENDAR
