BEGIN:VCALENDAR
VERSION:2.0
PRODID:-//ChamberMaster//Event Calendar 2.0//EN
METHOD:PUBLISH
X-PUBLISHED-TTL:P3D
REFRESH-INTERVAL:P3D
CALSCALE:GREGORIAN
BEGIN:VEVENT
DTSTART:20190329T010000Z
DTEND:20190329T030000Z
X-MICROSOFT-CDO-ALLDAYEVENT:FALSE
SUMMARY:Salud\, Sonoma Youth Benefit
DESCRIPTION:Join Side by Side\, a community-based non-profit\, at this fundraiser supporting middle and high school students in Petaluma. Featuring: Griffo Distillery craft cocktails\, dinner by Paella del Reyes\, live music by the Easy Leaves\, and a silent auction showcasing the best of Sonoma. This festive affair helps raise critical funds for Side by Side's programs in Petaluma and Sonoma County that address behavioral and mental health\, early intervention in schools\, and youth justice.
X-ALT-DESC;FMTTYPE=text/html:Join Side by Side\, a community-based non-profit\, at this fundraiser supporting middle and high school students in Petaluma. Featuring: Griffo Distillery craft cocktails\, dinner by Paella del Reyes\, live music by the Easy Leaves\, and a silent auction showcasing the best of Sonoma. This festive affair helps raise critical funds for Side by Side&#39\;s programs in Petaluma and Sonoma County that address behavioral and mental health\, early intervention in schools\, and youth justice.
LOCATION:Griffo Distillery 1320 Scott St\, Suite A. Petaluma\, CA 94954
UID:e.1308.12949
SEQUENCE:3
DTSTAMP:20260419T193242Z
URL:https://business.petalumachamber.biz/events/details/salud-sonoma-youth-benefit-12949
END:VEVENT

END:VCALENDAR
